BEGIN:VCALENDAR
VERSION:2.0
PRODID:-//Infra Bindt - ECPv6.15.20//NONSGML v1.0//EN
CALSCALE:GREGORIAN
METHOD:PUBLISH
X-ORIGINAL-URL:https://infrabindt.nl
X-WR-CALDESC:Evenementen voor Infra Bindt
REFRESH-INTERVAL;VALUE=DURATION:PT1H
X-Robots-Tag:noindex
X-PUBLISHED-TTL:PT1H
BEGIN:VTIMEZONE
TZID:Europe/Amsterdam
BEGIN:DAYLIGHT
TZOFFSETFROM:+0100
TZOFFSETTO:+0200
TZNAME:CEST
DTSTART:20210328T010000
END:DAYLIGHT
BEGIN:STANDARD
TZOFFSETFROM:+0200
TZOFFSETTO:+0100
TZNAME:CET
DTSTART:20211031T010000
END:STANDARD
BEGIN:DAYLIGHT
TZOFFSETFROM:+0100
TZOFFSETTO:+0200
TZNAME:CEST
DTSTART:20220327T010000
END:DAYLIGHT
BEGIN:STANDARD
TZOFFSETFROM:+0200
TZOFFSETTO:+0100
TZNAME:CET
DTSTART:20221030T010000
END:STANDARD
BEGIN:DAYLIGHT
TZOFFSETFROM:+0100
TZOFFSETTO:+0200
TZNAME:CEST
DTSTART:20230326T010000
END:DAYLIGHT
BEGIN:STANDARD
TZOFFSETFROM:+0200
TZOFFSETTO:+0100
TZNAME:CET
DTSTART:20231029T010000
END:STANDARD
END:VTIMEZONE
BEGIN:VEVENT
DTSTART;TZID=Europe/Amsterdam:20220603T083000
DTEND;TZID=Europe/Amsterdam:20220603T121000
DTSTAMP:20260425T055443
CREATED:20171218T163838Z
LAST-MODIFIED:20220511T102541Z
UID:635-1654245000-1654258200@infrabindt.nl
SUMMARY:2 Gastlessen over de infra in klas 3 mavo bij de Mavo aan Zee te Den Helder
DESCRIPTION:Gastles in de vorm van de workshop ‘Kennismaken met de infra’ die wordt verzorgd door professionals uit de infra.
URL:https://infrabindt.nl/evenement/2-gastlessen-over-de-infra-in-klas-2-b-k-bij-het-trinitas-college-johannes-bosco-te-heerhugowaard/
LOCATION:Mavo aan Zee\, Drs. F.Bijlweg 21\, Den Helder\, Nederland
CATEGORIES:gastles
ATTACH;FMTTYPE=image/jpeg:https://infrabindt.nl/wp-content/uploads/2016/10/infra-bindt-logo-fc.jpg
END:VEVENT
BEGIN:VEVENT
DTSTART;TZID=Europe/Amsterdam:20220603T103500
DTEND;TZID=Europe/Amsterdam:20220603T111500
DTSTAMP:20260425T055443
CREATED:20171218T163946Z
LAST-MODIFIED:20220512T065847Z
UID:637-1654252500-1654254900@infrabindt.nl
SUMMARY:1 Gastles over de infra in klas 1 bij het Trinitas College Johannes Bosco te Heerhugowaard
DESCRIPTION:Gastles in de vorm van de workshop ‘Kennismaken met de infra’ die wordt verzorgd door professionals uit de infra.
URL:https://infrabindt.nl/evenement/5-gastlessen-over-de-infra-in-klas-2-b-k-bij-het-trinitas-college-johannes-bosco-te-heerhugowaard/
LOCATION:Trinitas College Johannes Bosco\, Hectorlaan 6\, Heerhugowaard\, Nederland
CATEGORIES:gastles
ATTACH;FMTTYPE=image/jpeg:https://infrabindt.nl/wp-content/uploads/2016/10/infra-bindt-logo-fc.jpg
END:VEVENT
END:VCALENDAR