BEGIN:VCALENDAR
VERSION:2.0
PRODID:-//Infra Bindt - ECPv6.15.20//NONSGML v1.0//EN
CALSCALE:GREGORIAN
METHOD:PUBLISH
X-ORIGINAL-URL:https://infrabindt.nl
X-WR-CALDESC:Evenementen voor Infra Bindt
REFRESH-INTERVAL;VALUE=DURATION:PT1H
X-Robots-Tag:noindex
X-PUBLISHED-TTL:PT1H
BEGIN:VTIMEZONE
TZID:Europe/Amsterdam
BEGIN:DAYLIGHT
TZOFFSETFROM:+0100
TZOFFSETTO:+0200
TZNAME:CEST
DTSTART:20210328T010000
END:DAYLIGHT
BEGIN:STANDARD
TZOFFSETFROM:+0200
TZOFFSETTO:+0100
TZNAME:CET
DTSTART:20211031T010000
END:STANDARD
BEGIN:DAYLIGHT
TZOFFSETFROM:+0100
TZOFFSETTO:+0200
TZNAME:CEST
DTSTART:20220327T010000
END:DAYLIGHT
BEGIN:STANDARD
TZOFFSETFROM:+0200
TZOFFSETTO:+0100
TZNAME:CET
DTSTART:20221030T010000
END:STANDARD
BEGIN:DAYLIGHT
TZOFFSETFROM:+0100
TZOFFSETTO:+0200
TZNAME:CEST
DTSTART:20230326T010000
END:DAYLIGHT
BEGIN:STANDARD
TZOFFSETFROM:+0200
TZOFFSETTO:+0100
TZNAME:CET
DTSTART:20231029T010000
END:STANDARD
END:VTIMEZONE
BEGIN:VEVENT
DTSTART;TZID=Europe/Amsterdam:20221115T091500
DTEND;TZID=Europe/Amsterdam:20221115T104500
DTSTAMP:20260424T224422
CREATED:20221027T135352Z
LAST-MODIFIED:20221027T135527Z
UID:7253-1668503700-1668509100@infrabindt.nl
SUMMARY:2 Gastlessen over de infra in klas 3 Mavo bij het Tabor College Oscar Romero te Hoorn
DESCRIPTION:Gastles in de vorm van de workshop ‘Kennismaken met de infra’ die wordt verzorgd door professionals uit de infra.
URL:https://infrabindt.nl/evenement/2-gastlessen-over-de-infra-in-klas-3-mavo-bij-het-tabor-college-oscar-romero-te-hoorn/
LOCATION:Tabor College Oscar Romero\, Bouwsteen 1\, Hoorn
CATEGORIES:gastles
ATTACH;FMTTYPE=image/jpeg:https://infrabindt.nl/wp-content/uploads/2016/10/infra-bindt-logo-fc.jpg
END:VEVENT
BEGIN:VEVENT
DTSTART;TZID=Europe/Amsterdam:20221115T183000
DTEND;TZID=Europe/Amsterdam:20221115T210000
DTSTAMP:20260424T224422
CREATED:20221120T153040Z
LAST-MODIFIED:20221120T153040Z
UID:7404-1668537000-1668546000@infrabindt.nl
SUMMARY:Technische Informatiebeurs bij het Van der Meij College te Alkmaar
DESCRIPTION:Technische Informatiebeurs bij het Van der Meij College te Alkmaar. Deze beurs is toegankelijk voor leerlingen en ouders van het Van der Meij College\, CSG Jan Arentz\, Stedelijk Dalton College en Petrus Canisius College.
URL:https://infrabindt.nl/evenement/technische-informatiebeurs-bij-het-van-der-meij-college-te-alkmaar/
LOCATION:Van der Meij College\, Gravin Jacobastraat 1\, Alkmaar
CATEGORIES:beroepeninformatie
ATTACH;FMTTYPE=image/jpeg:https://infrabindt.nl/wp-content/uploads/2017/11/Infrabind-43.jpg
END:VEVENT
END:VCALENDAR