BEGIN:VCALENDAR
VERSION:2.0
PRODID:-//Infra Bindt - ECPv6.15.20//NONSGML v1.0//EN
CALSCALE:GREGORIAN
METHOD:PUBLISH
X-ORIGINAL-URL:https://infrabindt.nl
X-WR-CALDESC:Evenementen voor Infra Bindt
REFRESH-INTERVAL;VALUE=DURATION:PT1H
X-Robots-Tag:noindex
X-PUBLISHED-TTL:PT1H
BEGIN:VTIMEZONE
TZID:Europe/Amsterdam
BEGIN:DAYLIGHT
TZOFFSETFROM:+0100
TZOFFSETTO:+0200
TZNAME:CEST
DTSTART:20210328T010000
END:DAYLIGHT
BEGIN:STANDARD
TZOFFSETFROM:+0200
TZOFFSETTO:+0100
TZNAME:CET
DTSTART:20211031T010000
END:STANDARD
BEGIN:DAYLIGHT
TZOFFSETFROM:+0100
TZOFFSETTO:+0200
TZNAME:CEST
DTSTART:20220327T010000
END:DAYLIGHT
BEGIN:STANDARD
TZOFFSETFROM:+0200
TZOFFSETTO:+0100
TZNAME:CET
DTSTART:20221030T010000
END:STANDARD
BEGIN:DAYLIGHT
TZOFFSETFROM:+0100
TZOFFSETTO:+0200
TZNAME:CEST
DTSTART:20230326T010000
END:DAYLIGHT
BEGIN:STANDARD
TZOFFSETFROM:+0200
TZOFFSETTO:+0100
TZNAME:CET
DTSTART:20231029T010000
END:STANDARD
END:VTIMEZONE
BEGIN:VEVENT
DTSTART;TZID=Europe/Amsterdam:20221214T190000
DTEND;TZID=Europe/Amsterdam:20221214T210000
DTSTAMP:20260424T211015
CREATED:20220607T100409Z
LAST-MODIFIED:20221027T153433Z
UID:6583-1671044400-1671051600@infrabindt.nl
SUMMARY:Beroepenmarkt voor leerlingen van Vonk (voorheen Clusius College) te Castricum
DESCRIPTION:Beroepenmarkt voor leerlingen van het Clusius College te Castricum
URL:https://infrabindt.nl/evenement/beroepenmarkt-voor-leerlingen-van-het-clusius-college-te-castricum/
LOCATION:Vonk Castricum\, Oranjelaan 2a\, Castricum\, Noord-Holland\, 1901 TX\, Nederland
CATEGORIES:beroepeninformatie
ATTACH;FMTTYPE=image/jpeg:https://infrabindt.nl/wp-content/uploads/2017/11/Infrabind-43.jpg
END:VEVENT
END:VCALENDAR