BEGIN:VCALENDAR
VERSION:2.0
PRODID:-//Infra Bindt - ECPv6.15.20//NONSGML v1.0//EN
CALSCALE:GREGORIAN
METHOD:PUBLISH
X-WR-CALNAME:Infra Bindt
X-ORIGINAL-URL:https://infrabindt.nl
X-WR-CALDESC:Evenementen voor Infra Bindt
REFRESH-INTERVAL;VALUE=DURATION:PT1H
X-Robots-Tag:noindex
X-PUBLISHED-TTL:PT1H
BEGIN:VTIMEZONE
TZID:Europe/Amsterdam
BEGIN:DAYLIGHT
TZOFFSETFROM:+0100
TZOFFSETTO:+0200
TZNAME:CEST
DTSTART:20220327T010000
END:DAYLIGHT
BEGIN:STANDARD
TZOFFSETFROM:+0200
TZOFFSETTO:+0100
TZNAME:CET
DTSTART:20221030T010000
END:STANDARD
BEGIN:DAYLIGHT
TZOFFSETFROM:+0100
TZOFFSETTO:+0200
TZNAME:CEST
DTSTART:20230326T010000
END:DAYLIGHT
BEGIN:STANDARD
TZOFFSETFROM:+0200
TZOFFSETTO:+0100
TZNAME:CET
DTSTART:20231029T010000
END:STANDARD
BEGIN:DAYLIGHT
TZOFFSETFROM:+0100
TZOFFSETTO:+0200
TZNAME:CEST
DTSTART:20240331T010000
END:DAYLIGHT
BEGIN:STANDARD
TZOFFSETFROM:+0200
TZOFFSETTO:+0100
TZNAME:CET
DTSTART:20241027T010000
END:STANDARD
END:VTIMEZONE
BEGIN:VEVENT
DTSTART;TZID=Europe/Amsterdam:20230110T090000
DTEND;TZID=Europe/Amsterdam:20230131T120000
DTSTAMP:20260424T151319
CREATED:20230417T153638Z
LAST-MODIFIED:20230417T153638Z
UID:7877-1673341200-1675166400@infrabindt.nl
SUMMARY:9 Gastlessen over de infra in klas 2 VMBO bij het OSB Bijlmer via Tech Island
DESCRIPTION:Gastles in de vorm van de workshop ‘Kennismaken met de infra’ die wordt verzorgd door professionals uit de infra.
URL:https://infrabindt.nl/evenement/9-gastlessen-over-de-infra-in-klas-2-vmbo-bij-het-osb-bijlmer-via-tech-island-2/
LOCATION:Tech Your Talent\, Kabelweg 88\, Amsterdam
CATEGORIES:gastles
ATTACH;FMTTYPE=image/jpeg:https://infrabindt.nl/wp-content/uploads/2016/10/infra-bindt-logo-fc.jpg
END:VEVENT
BEGIN:VEVENT
DTSTART;TZID=Europe/Amsterdam:20230131T090000
DTEND;TZID=Europe/Amsterdam:20230131T120000
DTSTAMP:20260424T151319
CREATED:20230110T140949Z
LAST-MODIFIED:20230110T140949Z
UID:7558-1675155600-1675166400@infrabindt.nl
SUMMARY:3 Gastlessen over de infra in klas 2 VMBO van de OSB Bijlmer bij Tech Island te Amsterdam
DESCRIPTION:Gastles in de vorm van de workshop ‘Kennismaken met de infra’ die wordt verzorgd door professionals uit de infra.
URL:https://infrabindt.nl/evenement/3-gastlessen-over-de-infra-in-klas-2-vmbo-van-de-osb-bijlmer-bij-tech-island-te-amsterdam-2/
LOCATION:Tech Your Talent\, Kabelweg 88\, Amsterdam
CATEGORIES:gastles
ATTACH;FMTTYPE=image/jpeg:https://infrabindt.nl/wp-content/uploads/2016/10/infra-bindt-logo-fc.jpg
END:VEVENT
BEGIN:VEVENT
DTSTART;TZID=Europe/Amsterdam:20230131T090000
DTEND;TZID=Europe/Amsterdam:20230131T135000
DTSTAMP:20260424T151319
CREATED:20221129T160945Z
LAST-MODIFIED:20221129T160945Z
UID:7479-1675155600-1675173000@infrabindt.nl
SUMMARY:3 Gastlessen over de infra in klas 3 Mavo bij het Martinus College te Grootebroek
DESCRIPTION:Gastles in de vorm van de workshop ‘Kennismaken met de infra’ die wordt verzorgd door professionals uit de infra.
URL:https://infrabindt.nl/evenement/3-gastlessen-over-de-infra-in-klas-3-mavo-bij-het-martinus-college-te-grootebroek-2/
LOCATION:Martinus College\, De Aanloop 6\, Grootebroek\, 1613KV
CATEGORIES:gastles
ATTACH;FMTTYPE=image/jpeg:https://infrabindt.nl/wp-content/uploads/2016/10/infra-bindt-logo-fc.jpg
END:VEVENT
END:VCALENDAR