BEGIN:VCALENDAR
VERSION:2.0
PRODID:-//Infra Bindt - ECPv6.15.20//NONSGML v1.0//EN
CALSCALE:GREGORIAN
METHOD:PUBLISH
X-WR-CALNAME:Infra Bindt
X-ORIGINAL-URL:https://infrabindt.nl
X-WR-CALDESC:Evenementen voor Infra Bindt
REFRESH-INTERVAL;VALUE=DURATION:PT1H
X-Robots-Tag:noindex
X-PUBLISHED-TTL:PT1H
BEGIN:VTIMEZONE
TZID:Europe/Amsterdam
BEGIN:DAYLIGHT
TZOFFSETFROM:+0100
TZOFFSETTO:+0200
TZNAME:CEST
DTSTART:20220327T010000
END:DAYLIGHT
BEGIN:STANDARD
TZOFFSETFROM:+0200
TZOFFSETTO:+0100
TZNAME:CET
DTSTART:20221030T010000
END:STANDARD
BEGIN:DAYLIGHT
TZOFFSETFROM:+0100
TZOFFSETTO:+0200
TZNAME:CEST
DTSTART:20230326T010000
END:DAYLIGHT
BEGIN:STANDARD
TZOFFSETFROM:+0200
TZOFFSETTO:+0100
TZNAME:CET
DTSTART:20231029T010000
END:STANDARD
BEGIN:DAYLIGHT
TZOFFSETFROM:+0100
TZOFFSETTO:+0200
TZNAME:CEST
DTSTART:20240331T010000
END:DAYLIGHT
BEGIN:STANDARD
TZOFFSETFROM:+0200
TZOFFSETTO:+0100
TZNAME:CET
DTSTART:20241027T010000
END:STANDARD
END:VTIMEZONE
BEGIN:VEVENT
DTSTART;TZID=Europe/Amsterdam:20230306T083000
DTEND;TZID=Europe/Amsterdam:20230310T151000
DTSTAMP:20260424T134038
CREATED:20230315T110743Z
LAST-MODIFIED:20230315T110906Z
UID:7763-1678091400-1678461000@infrabindt.nl
SUMMARY:6 Gastlessen over de infra in klas 2 havo/vwo bij het OSG West-Friesland te Hoorn
DESCRIPTION:Gastles in de vorm van de workshop ‘Kennismaken met de infra’ die wordt verzorgd door professionals uit de infra. Deze gastlessen staan in het teken van een stedenbouwkundig project.
URL:https://infrabindt.nl/evenement/6-gastlessen-over-de-infra-in-klas-2-havo-vwo-bij-het-osg-west-friesland-te-hoorn/
LOCATION:OSG West-Friesland\, Bontekoestraat 3\, Hoorn
CATEGORIES:gastles
ATTACH;FMTTYPE=image/jpeg:https://infrabindt.nl/wp-content/uploads/2016/10/infra-bindt-logo-fc.jpg
END:VEVENT
BEGIN:VEVENT
DTSTART;TZID=Europe/Amsterdam:20230306T100000
DTEND;TZID=Europe/Amsterdam:20230308T140000
DTSTAMP:20260424T134038
CREATED:20230125T141928Z
LAST-MODIFIED:20230125T141928Z
UID:7629-1678096800-1678284000@infrabindt.nl
SUMMARY:PET Promotie Evenement Techniek voor basisscholen in Zaandam
DESCRIPTION:Evenement bij Het HEM te Zaandam voor leerlingen basisschool groep 8 uit de Zaanstad. Daar kunnen zij zich spelenderwijs oriënteren op hun beroepskeuze.
URL:https://infrabindt.nl/evenement/pet-promotie-evenement-techniek-voor-basisscholen-in-zaandam/
LOCATION:Mainstage\, Ronde Tocht 11\, Zaandam
CATEGORIES:Event
ATTACH;FMTTYPE=image/jpeg:https://infrabindt.nl/wp-content/uploads/2020/01/200121_Nieuwsbrief_Infra_Bindt_PET.jpg
END:VEVENT
BEGIN:VEVENT
DTSTART;TZID=Europe/Amsterdam:20230307T090000
DTEND;TZID=Europe/Amsterdam:20230321T120000
DTSTAMP:20260424T134038
CREATED:20230417T153325Z
LAST-MODIFIED:20230417T153325Z
UID:7870-1678179600-1679400000@infrabindt.nl
SUMMARY:9 Gastlessen over de infra in klas 2 VMBO bij het OSB Bijlmer via Tech Island
DESCRIPTION:Gastles in de vorm van de workshop ‘Kennismaken met de infra’ die wordt verzorgd door professionals uit de infra.
URL:https://infrabindt.nl/evenement/9-gastlessen-over-de-infra-in-klas-2-vmbo-bij-het-osb-bijlmer-via-tech-island/
LOCATION:Tech Your Talent\, Kabelweg 88\, Amsterdam
CATEGORIES:gastles
ATTACH;FMTTYPE=image/jpeg:https://infrabindt.nl/wp-content/uploads/2016/10/infra-bindt-logo-fc.jpg
END:VEVENT
END:VCALENDAR