BEGIN:VCALENDAR
VERSION:2.0
PRODID:-//Infra Bindt - ECPv6.15.20//NONSGML v1.0//EN
CALSCALE:GREGORIAN
METHOD:PUBLISH
X-WR-CALNAME:Infra Bindt
X-ORIGINAL-URL:https://infrabindt.nl
X-WR-CALDESC:Evenementen voor Infra Bindt
REFRESH-INTERVAL;VALUE=DURATION:PT1H
X-Robots-Tag:noindex
X-PUBLISHED-TTL:PT1H
BEGIN:VTIMEZONE
TZID:Europe/Amsterdam
BEGIN:DAYLIGHT
TZOFFSETFROM:+0100
TZOFFSETTO:+0200
TZNAME:CEST
DTSTART:20220327T010000
END:DAYLIGHT
BEGIN:STANDARD
TZOFFSETFROM:+0200
TZOFFSETTO:+0100
TZNAME:CET
DTSTART:20221030T010000
END:STANDARD
BEGIN:DAYLIGHT
TZOFFSETFROM:+0100
TZOFFSETTO:+0200
TZNAME:CEST
DTSTART:20230326T010000
END:DAYLIGHT
BEGIN:STANDARD
TZOFFSETFROM:+0200
TZOFFSETTO:+0100
TZNAME:CET
DTSTART:20231029T010000
END:STANDARD
BEGIN:DAYLIGHT
TZOFFSETFROM:+0100
TZOFFSETTO:+0200
TZNAME:CEST
DTSTART:20240331T010000
END:DAYLIGHT
BEGIN:STANDARD
TZOFFSETFROM:+0200
TZOFFSETTO:+0100
TZNAME:CET
DTSTART:20241027T010000
END:STANDARD
END:VTIMEZONE
BEGIN:VEVENT
DTSTART;TZID=Europe/Amsterdam:20230601T100000
DTEND;TZID=Europe/Amsterdam:20230602T151500
DTSTAMP:20260424T091815
CREATED:20230419T191304Z
LAST-MODIFIED:20230419T191304Z
UID:7891-1685613600-1685718900@infrabindt.nl
SUMMARY:6 Gastlessen over de infra in klas 1 en 2 bij Vonk (vh Clusius College) te Purmerend
DESCRIPTION:Gastles in de vorm van de workshop ‘Kennismaken met de infra’ die wordt verzorgd door professionals uit de infra.
URL:https://infrabindt.nl/evenement/6-gastlessen-over-de-infra-in-klas-1-en-2-bij-vonk-vh-clusius-college-te-purmerend/
LOCATION:Vonk Purmerend\, Aletta Jacobslaan 1\, Purmerend
CATEGORIES:gastles
ATTACH;FMTTYPE=image/jpeg:https://infrabindt.nl/wp-content/uploads/2016/10/infra-bindt-logo-fc.jpg
END:VEVENT
BEGIN:VEVENT
DTSTART;TZID=Europe/Amsterdam:20230601T190000
DTEND;TZID=Europe/Amsterdam:20230601T213000
DTSTAMP:20260424T091815
CREATED:20230315T142503Z
LAST-MODIFIED:20230315T142624Z
UID:7774-1685646000-1685655000@infrabindt.nl
SUMMARY:Scholen- en beroepenmarkt Zaanstreek bij het Trias VMBO te Krommenie
DESCRIPTION:Scholen- en beroepenmarkt Zaanstreek voor 5 VMBO scholen bij het Trias VMBO te Krommenie.
URL:https://infrabindt.nl/evenement/scholen-en-beroepenmarkt-zaanstreek-bij-het-trias-vmbo-te-krommenie/
LOCATION:Trias VMBO\, Saendelverlaan 1\, Krommenie
CATEGORIES:beroepeninformatie
ATTACH;FMTTYPE=image/jpeg:https://infrabindt.nl/wp-content/uploads/2017/11/Infrabind-43.jpg
END:VEVENT
END:VCALENDAR