BEGIN:VCALENDAR
VERSION:2.0
PRODID:-//Infra Bindt - ECPv6.15.20//NONSGML v1.0//EN
CALSCALE:GREGORIAN
METHOD:PUBLISH
X-WR-CALNAME:Infra Bindt
X-ORIGINAL-URL:https://infrabindt.nl
X-WR-CALDESC:Evenementen voor Infra Bindt
REFRESH-INTERVAL;VALUE=DURATION:PT1H
X-Robots-Tag:noindex
X-PUBLISHED-TTL:PT1H
BEGIN:VTIMEZONE
TZID:Europe/Amsterdam
BEGIN:DAYLIGHT
TZOFFSETFROM:+0100
TZOFFSETTO:+0200
TZNAME:CEST
DTSTART:20220327T010000
END:DAYLIGHT
BEGIN:STANDARD
TZOFFSETFROM:+0200
TZOFFSETTO:+0100
TZNAME:CET
DTSTART:20221030T010000
END:STANDARD
BEGIN:DAYLIGHT
TZOFFSETFROM:+0100
TZOFFSETTO:+0200
TZNAME:CEST
DTSTART:20230326T010000
END:DAYLIGHT
BEGIN:STANDARD
TZOFFSETFROM:+0200
TZOFFSETTO:+0100
TZNAME:CET
DTSTART:20231029T010000
END:STANDARD
BEGIN:DAYLIGHT
TZOFFSETFROM:+0100
TZOFFSETTO:+0200
TZNAME:CEST
DTSTART:20240331T010000
END:DAYLIGHT
BEGIN:STANDARD
TZOFFSETFROM:+0200
TZOFFSETTO:+0100
TZNAME:CET
DTSTART:20241027T010000
END:STANDARD
END:VTIMEZONE
BEGIN:VEVENT
DTSTART;TZID=Europe/Amsterdam:20231102T090000
DTEND;TZID=Europe/Amsterdam:20231102T120000
DTSTAMP:20260424T011611
CREATED:20240115T160030Z
LAST-MODIFIED:20240201T215619Z
UID:8409-1698915600-1698926400@infrabindt.nl
SUMMARY:3 Gastlessen Haarlemmermeer Lyceum via Tech Island\, Amsterdam
DESCRIPTION:3 Gastlessen Haarlemmermeer Lyceum via Tech Island\, Amsterdam \nGastles in de vorm van de workshop ‘Kennismaken met de infra’ die wordt verzorgd door professionals uit de infra.
URL:https://infrabindt.nl/evenement/6-gastlessen-haarlemmermeer-lyceum-via-tech-island-amsterdam/
LOCATION:Tech Your Talent\, Kabelweg 88\, Amsterdam
CATEGORIES:gastles
ATTACH;FMTTYPE=image/jpeg:https://infrabindt.nl/wp-content/uploads/2023/11/infra-bindt-logo-fc.jpg
END:VEVENT
BEGIN:VEVENT
DTSTART;TZID=Europe/Amsterdam:20231102T114000
DTEND;TZID=Europe/Amsterdam:20231102T143000
DTSTAMP:20260424T011611
CREATED:20240115T154822Z
LAST-MODIFIED:20240115T154822Z
UID:8404-1698925200-1698935400@infrabindt.nl
SUMMARY:3 gastlessen Mavo/Havo Petrus Canisius College Fabritius te Alkmaar
DESCRIPTION:3 Gastlessen klas 2 Mavo/Havo Petrus Canisius College Fabritius te Alkmaar \nGastles in de vorm van de workshop ‘Kennismaken met de infra’ die wordt verzorgd door professionals uit de infra.
URL:https://infrabindt.nl/evenement/3-gastlessen-mavo-havo-petrus-canisius-college-fabritius-te-alkmaar/
LOCATION:Petrus Canisius College Fabritius\, Fabritiusstraat 1\, Alkmaar
CATEGORIES:gastles
ATTACH;FMTTYPE=image/jpeg:https://infrabindt.nl/wp-content/uploads/2023/11/infra-bindt-logo-fc.jpg
END:VEVENT
END:VCALENDAR