BEGIN:VCALENDAR
VERSION:2.0
PRODID:-//Infra Bindt - ECPv6.15.20//NONSGML v1.0//EN
CALSCALE:GREGORIAN
METHOD:PUBLISH
X-WR-CALNAME:Infra Bindt
X-ORIGINAL-URL:https://infrabindt.nl
X-WR-CALDESC:Evenementen voor Infra Bindt
REFRESH-INTERVAL;VALUE=DURATION:PT1H
X-Robots-Tag:noindex
X-PUBLISHED-TTL:PT1H
BEGIN:VTIMEZONE
TZID:Europe/Amsterdam
BEGIN:DAYLIGHT
TZOFFSETFROM:+0100
TZOFFSETTO:+0200
TZNAME:CEST
DTSTART:20220327T010000
END:DAYLIGHT
BEGIN:STANDARD
TZOFFSETFROM:+0200
TZOFFSETTO:+0100
TZNAME:CET
DTSTART:20221030T010000
END:STANDARD
BEGIN:DAYLIGHT
TZOFFSETFROM:+0100
TZOFFSETTO:+0200
TZNAME:CEST
DTSTART:20230326T010000
END:DAYLIGHT
BEGIN:STANDARD
TZOFFSETFROM:+0200
TZOFFSETTO:+0100
TZNAME:CET
DTSTART:20231029T010000
END:STANDARD
BEGIN:DAYLIGHT
TZOFFSETFROM:+0100
TZOFFSETTO:+0200
TZNAME:CEST
DTSTART:20240331T010000
END:DAYLIGHT
BEGIN:STANDARD
TZOFFSETFROM:+0200
TZOFFSETTO:+0100
TZNAME:CET
DTSTART:20241027T010000
END:STANDARD
END:VTIMEZONE
BEGIN:VEVENT
DTSTART;TZID=Europe/Amsterdam:20231106T083000
DTEND;TZID=Europe/Amsterdam:20231108T153000
DTSTAMP:20260424T011504
CREATED:20240115T154117Z
LAST-MODIFIED:20240115T154117Z
UID:8399-1699259400-1699457400@infrabindt.nl
SUMMARY:8 gastlessen Han Fortmann College Heerhugowaard
DESCRIPTION:8 Gastlessen klas 2 Mavo/Havo/VWO Han Fortmann College te Heerhugowaard. \nGastles in de vorm van de workshop ‘Kennismaken met de infra’ die wordt verzorgd door professionals uit de infra.
URL:https://infrabindt.nl/evenement/8-gastlessen-han-fortmann-college-heerhugowaard/
LOCATION:Han Fortmann\, Beukenlaan 1\, Heerhugowaard
CATEGORIES:gastles
ATTACH;FMTTYPE=image/jpeg:https://infrabindt.nl/wp-content/uploads/2023/11/infra-bindt-logo-fc.jpg
END:VEVENT
BEGIN:VEVENT
DTSTART;TZID=Europe/Amsterdam:20231106T100000
DTEND;TZID=Europe/Amsterdam:20231109T180000
DTSTAMP:20260424T011504
CREATED:20240115T150110Z
LAST-MODIFIED:20240115T150110Z
UID:8396-1699264800-1699552800@infrabindt.nl
SUMMARY:Aquatech beurs Amsterdam Rai
DESCRIPTION:Aquatech Amsterdam is de grootse internationale beurs voor de watertechnologie sector\, die elke 2 jaar in Amsterdam wordt gehouden.
URL:https://infrabindt.nl/evenement/aquatech-beurs-amsterdam-rai/
LOCATION:RAI Amsterdam\, Europaplein\, Amsterdam\, Noord-Holland\, 1078 GZ\, Nederland
CATEGORIES:Event
ATTACH;FMTTYPE=image/jpeg:https://infrabindt.nl/wp-content/uploads/2022/05/Perry_van_Eijk_havenontwerp.jpg
END:VEVENT
END:VCALENDAR