BEGIN:VCALENDAR
VERSION:2.0
PRODID:-//Infra Bindt - ECPv6.15.20//NONSGML v1.0//EN
CALSCALE:GREGORIAN
METHOD:PUBLISH
X-WR-CALNAME:Infra Bindt
X-ORIGINAL-URL:https://infrabindt.nl
X-WR-CALDESC:Evenementen voor Infra Bindt
REFRESH-INTERVAL;VALUE=DURATION:PT1H
X-Robots-Tag:noindex
X-PUBLISHED-TTL:PT1H
BEGIN:VTIMEZONE
TZID:Europe/Amsterdam
BEGIN:DAYLIGHT
TZOFFSETFROM:+0100
TZOFFSETTO:+0200
TZNAME:CEST
DTSTART:20220327T010000
END:DAYLIGHT
BEGIN:STANDARD
TZOFFSETFROM:+0200
TZOFFSETTO:+0100
TZNAME:CET
DTSTART:20221030T010000
END:STANDARD
BEGIN:DAYLIGHT
TZOFFSETFROM:+0100
TZOFFSETTO:+0200
TZNAME:CEST
DTSTART:20230326T010000
END:DAYLIGHT
BEGIN:STANDARD
TZOFFSETFROM:+0200
TZOFFSETTO:+0100
TZNAME:CET
DTSTART:20231029T010000
END:STANDARD
BEGIN:DAYLIGHT
TZOFFSETFROM:+0100
TZOFFSETTO:+0200
TZNAME:CEST
DTSTART:20240331T010000
END:DAYLIGHT
BEGIN:STANDARD
TZOFFSETFROM:+0200
TZOFFSETTO:+0100
TZNAME:CET
DTSTART:20241027T010000
END:STANDARD
END:VTIMEZONE
BEGIN:VEVENT
DTSTART;TZID=Europe/Amsterdam:20231116T090000
DTEND;TZID=Europe/Amsterdam:20231117T150000
DTSTAMP:20260424T011543
CREATED:20240115T140319Z
LAST-MODIFIED:20240115T140319Z
UID:8379-1700125200-1700233200@infrabindt.nl
SUMMARY:PET Promotie Event Techniek voor basisscholen in West-Friesland West
DESCRIPTION:Evenement in Sportcentrum De Weyver te Hoogwoud voor leerlingen basisschool groep 7 uit West-Friesland West. Daar kunnen zij zich spelenderwijs oriënteren op hun beroepskeuze.
URL:https://infrabindt.nl/evenement/pet-promotie-event-techniek-voor-basisscholen-in-west-friesland-oost-3/
LOCATION:Sportcentrum De Weyver\, De Weyver 6\, Hoogwoud\, Noord-Holland\, 1718 MS\, Nederland
CATEGORIES:Event
ATTACH;FMTTYPE=image/jpeg:https://infrabindt.nl/wp-content/uploads/2020/01/200121_Nieuwsbrief_Infra_Bindt_PET.jpg
END:VEVENT
END:VCALENDAR