BEGIN:VCALENDAR
VERSION:2.0
PRODID:-//Infra Bindt - ECPv6.15.20//NONSGML v1.0//EN
CALSCALE:GREGORIAN
METHOD:PUBLISH
X-ORIGINAL-URL:https://infrabindt.nl
X-WR-CALDESC:Evenementen voor Infra Bindt
REFRESH-INTERVAL;VALUE=DURATION:PT1H
X-Robots-Tag:noindex
X-PUBLISHED-TTL:PT1H
BEGIN:VTIMEZONE
TZID:Europe/Amsterdam
BEGIN:DAYLIGHT
TZOFFSETFROM:+0100
TZOFFSETTO:+0200
TZNAME:CEST
DTSTART:20220327T010000
END:DAYLIGHT
BEGIN:STANDARD
TZOFFSETFROM:+0200
TZOFFSETTO:+0100
TZNAME:CET
DTSTART:20221030T010000
END:STANDARD
BEGIN:DAYLIGHT
TZOFFSETFROM:+0100
TZOFFSETTO:+0200
TZNAME:CEST
DTSTART:20230326T010000
END:DAYLIGHT
BEGIN:STANDARD
TZOFFSETFROM:+0200
TZOFFSETTO:+0100
TZNAME:CET
DTSTART:20231029T010000
END:STANDARD
BEGIN:DAYLIGHT
TZOFFSETFROM:+0100
TZOFFSETTO:+0200
TZNAME:CEST
DTSTART:20240331T010000
END:DAYLIGHT
BEGIN:STANDARD
TZOFFSETFROM:+0200
TZOFFSETTO:+0100
TZNAME:CET
DTSTART:20241027T010000
END:STANDARD
END:VTIMEZONE
BEGIN:VEVENT
DTSTART;TZID=Europe/Amsterdam:20231122T084500
DTEND;TZID=Europe/Amsterdam:20231123T140000
DTSTAMP:20260424T011714
CREATED:20240115T135626Z
LAST-MODIFIED:20240115T135626Z
UID:8376-1700642700-1700748000@infrabindt.nl
SUMMARY:PET Promotie Event Techniek voor basisscholen in Haarlem
DESCRIPTION:Evenement bij 3D Makerszone voor leerlingen basisscholen Haarlem. Daar kunnen zij zich spelenderwijs oriënteren op hun beroepskeuze.
URL:https://infrabindt.nl/evenement/pet-promotie-event-techniek-voor-basisscholen-in-de-gooi-en-vechtstreek-2-2/
LOCATION:3D Makers Zone\, Oudeweg 91-95\, Haarlem\, Nederland
CATEGORIES:Event
ATTACH;FMTTYPE=image/jpeg:https://infrabindt.nl/wp-content/uploads/2020/01/200121_Nieuwsbrief_Infra_Bindt_PET.jpg
END:VEVENT
BEGIN:VEVENT
DTSTART;TZID=Europe/Amsterdam:20231123T090000
DTEND;TZID=Europe/Amsterdam:20231123T120000
DTSTAMP:20260424T011714
CREATED:20240115T135159Z
LAST-MODIFIED:20240201T215352Z
UID:8372-1700730000-1700740800@infrabindt.nl
SUMMARY:3 Gastlessen ROC TOP via Tech Island\, Amsterdam
DESCRIPTION:3 Gastlessen ROC TOP via Tech Island\, Amsterdam \nGastles in de vorm van de workshop ‘Kennismaken met de infra’ die wordt verzorgd door professionals uit de infra.
URL:https://infrabindt.nl/evenement/3-gastlessen-roc-top-via-tech-island-amsterdam/
LOCATION:Tech Your Talent\, Kabelweg 88\, Amsterdam
CATEGORIES:gastles
ATTACH;FMTTYPE=image/jpeg:https://infrabindt.nl/wp-content/uploads/2023/11/infra-bindt-logo-fc.jpg
END:VEVENT
END:VCALENDAR