BEGIN:VCALENDAR
VERSION:2.0
PRODID:-//Infra Bindt - ECPv6.15.20//NONSGML v1.0//EN
CALSCALE:GREGORIAN
METHOD:PUBLISH
X-ORIGINAL-URL:https://infrabindt.nl
X-WR-CALDESC:Evenementen voor Infra Bindt
REFRESH-INTERVAL;VALUE=DURATION:PT1H
X-Robots-Tag:noindex
X-PUBLISHED-TTL:PT1H
BEGIN:VTIMEZONE
TZID:Europe/Amsterdam
BEGIN:DAYLIGHT
TZOFFSETFROM:+0100
TZOFFSETTO:+0200
TZNAME:CEST
DTSTART:20230326T010000
END:DAYLIGHT
BEGIN:STANDARD
TZOFFSETFROM:+0200
TZOFFSETTO:+0100
TZNAME:CET
DTSTART:20231029T010000
END:STANDARD
BEGIN:DAYLIGHT
TZOFFSETFROM:+0100
TZOFFSETTO:+0200
TZNAME:CEST
DTSTART:20240331T010000
END:DAYLIGHT
BEGIN:STANDARD
TZOFFSETFROM:+0200
TZOFFSETTO:+0100
TZNAME:CET
DTSTART:20241027T010000
END:STANDARD
BEGIN:DAYLIGHT
TZOFFSETFROM:+0100
TZOFFSETTO:+0200
TZNAME:CEST
DTSTART:20250330T010000
END:DAYLIGHT
BEGIN:STANDARD
TZOFFSETFROM:+0200
TZOFFSETTO:+0100
TZNAME:CET
DTSTART:20251026T010000
END:STANDARD
END:VTIMEZONE
BEGIN:VEVENT
DTSTART;TZID=Europe/Amsterdam:20240304T100000
DTEND;TZID=Europe/Amsterdam:20240306T140000
DTSTAMP:20260423T191300
CREATED:20240125T155751Z
LAST-MODIFIED:20240125T155751Z
UID:8543-1709546400-1709733600@infrabindt.nl
SUMMARY:PET Promotie Evenement Techniek voor basisscholen in Zaandam
DESCRIPTION:Evenement bij Het HEM te Zaandam voor leerlingen basisschool groep 8 uit de Zaanstad. Daar kunnen zij zich spelenderwijs oriënteren op hun beroepskeuze.
URL:https://infrabindt.nl/evenement/pet-promotie-evenement-techniek-voor-basisscholen-in-zaandam-2/
LOCATION:Mainstage\, Ronde Tocht 11\, Zaandam
CATEGORIES:Event
ATTACH;FMTTYPE=image/jpeg:https://infrabindt.nl/wp-content/uploads/2020/01/200121_Nieuwsbrief_Infra_Bindt_PET.jpg
END:VEVENT
BEGIN:VEVENT
DTSTART;TZID=Europe/Amsterdam:20240306T090000
DTEND;TZID=Europe/Amsterdam:20240306T132000
DTSTAMP:20260423T191300
CREATED:20240329T132206Z
LAST-MODIFIED:20240607T063757Z
UID:8743-1709715600-1709731200@infrabindt.nl
SUMMARY:5 Gastlessen over de infra in klas 3 havo bij de KSH te Hoofddorp
DESCRIPTION:Gastles in de vorm van de workshop ‘Kennismaken met de infra’ die wordt verzorgd door professionals uit de infra.
URL:https://infrabindt.nl/evenement/8-gastlessen-over-de-infra-in-klas-3-mavo-havo-bij-de-ksh-te-hoofddorp-2/
LOCATION:KSH\, Assumburg 10\, Hoofddorp\, Nederland
CATEGORIES:gastles
ATTACH;FMTTYPE=image/jpeg:https://infrabindt.nl/wp-content/uploads/2016/10/infra-bindt-logo-fc.jpg
END:VEVENT
END:VCALENDAR