BEGIN:VCALENDAR
VERSION:2.0
PRODID:-//Infra Bindt - ECPv6.15.20//NONSGML v1.0//EN
CALSCALE:GREGORIAN
METHOD:PUBLISH
X-ORIGINAL-URL:https://infrabindt.nl
X-WR-CALDESC:Evenementen voor Infra Bindt
REFRESH-INTERVAL;VALUE=DURATION:PT1H
X-Robots-Tag:noindex
X-PUBLISHED-TTL:PT1H
BEGIN:VTIMEZONE
TZID:Europe/Amsterdam
BEGIN:DAYLIGHT
TZOFFSETFROM:+0100
TZOFFSETTO:+0200
TZNAME:CEST
DTSTART:20230326T010000
END:DAYLIGHT
BEGIN:STANDARD
TZOFFSETFROM:+0200
TZOFFSETTO:+0100
TZNAME:CET
DTSTART:20231029T010000
END:STANDARD
BEGIN:DAYLIGHT
TZOFFSETFROM:+0100
TZOFFSETTO:+0200
TZNAME:CEST
DTSTART:20240331T010000
END:DAYLIGHT
BEGIN:STANDARD
TZOFFSETFROM:+0200
TZOFFSETTO:+0100
TZNAME:CET
DTSTART:20241027T010000
END:STANDARD
BEGIN:DAYLIGHT
TZOFFSETFROM:+0100
TZOFFSETTO:+0200
TZNAME:CEST
DTSTART:20250330T010000
END:DAYLIGHT
BEGIN:STANDARD
TZOFFSETFROM:+0200
TZOFFSETTO:+0100
TZNAME:CET
DTSTART:20251026T010000
END:STANDARD
END:VTIMEZONE
BEGIN:VEVENT
DTSTART;TZID=Europe/Amsterdam:20240307T090000
DTEND;TZID=Europe/Amsterdam:20240307T120000
DTSTAMP:20260423T191301
CREATED:20240125T155102Z
LAST-MODIFIED:20240201T211516Z
UID:8536-1709802000-1709812800@infrabindt.nl
SUMMARY:3 Gastlessen OS Buitenveldert Amsterdam via Tech Island
DESCRIPTION:Gastles in de vorm van de workshop ‘Kennismaken met de infra’ die wordt verzorgd door professionals uit de infra.
URL:https://infrabindt.nl/evenement/3-gastlessen-cs-buitenveldert-amsterdam-via-tech-island-2-2-2/
LOCATION:Tech Your Talent\, Kabelweg 88\, Amsterdam
CATEGORIES:gastles
ATTACH;FMTTYPE=image/jpeg:https://infrabindt.nl/wp-content/uploads/2023/11/infra-bindt-logo-fc.jpg
END:VEVENT
BEGIN:VEVENT
DTSTART;TZID=Europe/Amsterdam:20240307T100000
DTEND;TZID=Europe/Amsterdam:20240308T140000
DTSTAMP:20260423T191301
CREATED:20240329T133232Z
LAST-MODIFIED:20240329T133232Z
UID:8746-1709805600-1709906400@infrabindt.nl
SUMMARY:Tech Your Talent voor voortgezet onderwijs Zaanstad
DESCRIPTION:Tech Your Talent voor voortgezet onderwijs Zaanstad. Daar kunnen zij zich spelenderwijs oriënteren op hun beroepskeuze.
URL:https://infrabindt.nl/evenement/pet-promotie-evenement-techniek-voor-basisscholen-in-zaandam-2-2/
LOCATION:Mainstage\, Ronde Tocht 11\, Zaandam
CATEGORIES:Event
ATTACH;FMTTYPE=image/jpeg:https://infrabindt.nl/wp-content/uploads/2020/01/200121_Nieuwsbrief_Infra_Bindt_PET.jpg
END:VEVENT
BEGIN:VEVENT
DTSTART;TZID=Europe/Amsterdam:20240307T100000
DTEND;TZID=Europe/Amsterdam:20240308T140000
DTSTAMP:20260423T191301
CREATED:20240329T133942Z
LAST-MODIFIED:20240329T133942Z
UID:8749-1709805600-1709906400@infrabindt.nl
SUMMARY:2 Gastlessen over de infra in klas 1 techniek bij het Hoofdvaart College te Hoofddorp
DESCRIPTION:Gastles in de vorm van de workshop ‘Kennismaken met de infra’ die wordt verzorgd door professionals uit de infra.
URL:https://infrabindt.nl/evenement/1-gastles-over-de-infra-in-klas-2-techniek-bij-het-hoofdvaart-college-te-hoofddorp-2/
LOCATION:Hoofdvaart College\, Paxlaan 20\, Hoofddorp
CATEGORIES:gastles
ATTACH;FMTTYPE=image/jpeg:https://infrabindt.nl/wp-content/uploads/2016/10/infra-bindt-logo-fc.jpg
END:VEVENT
BEGIN:VEVENT
DTSTART;TZID=Europe/Amsterdam:20240307T123000
DTEND;TZID=Europe/Amsterdam:20240307T170000
DTSTAMP:20260423T191301
CREATED:20240125T160337Z
LAST-MODIFIED:20240125T160337Z
UID:8546-1709814600-1709830800@infrabindt.nl
SUMMARY:Dijk en Waard On Stage Beroepenfeest te Heerhugowaard
DESCRIPTION:Dijk en Waard On Stage Beroepenfeest te Heerhugowaard voor de vmbo leerlingen van: \nTrinitascollege Johannes Bosco\nHuygens College\nVonk Heerhugowaard\nJan Arentsz Langedijk\nDijk en Waard College
URL:https://infrabindt.nl/evenement/dijk-en-waard-on-stage-beroepenfeest-te-heerhugowaard-2/
LOCATION:Sporthal Waardergolf\, Beukenlaan 1B\, Heerhugowaard
CATEGORIES:beroepeninformatie
ATTACH;FMTTYPE=image/jpeg:https://infrabindt.nl/wp-content/uploads/2017/11/Infrabind-43.jpg
END:VEVENT
END:VCALENDAR