BEGIN:VCALENDAR
VERSION:2.0
PRODID:-//Infra Bindt - ECPv6.15.20//NONSGML v1.0//EN
CALSCALE:GREGORIAN
METHOD:PUBLISH
X-ORIGINAL-URL:https://infrabindt.nl
X-WR-CALDESC:Evenementen voor Infra Bindt
REFRESH-INTERVAL;VALUE=DURATION:PT1H
X-Robots-Tag:noindex
X-PUBLISHED-TTL:PT1H
BEGIN:VTIMEZONE
TZID:Europe/Amsterdam
BEGIN:DAYLIGHT
TZOFFSETFROM:+0100
TZOFFSETTO:+0200
TZNAME:CEST
DTSTART:20230326T010000
END:DAYLIGHT
BEGIN:STANDARD
TZOFFSETFROM:+0200
TZOFFSETTO:+0100
TZNAME:CET
DTSTART:20231029T010000
END:STANDARD
BEGIN:DAYLIGHT
TZOFFSETFROM:+0100
TZOFFSETTO:+0200
TZNAME:CEST
DTSTART:20240331T010000
END:DAYLIGHT
BEGIN:STANDARD
TZOFFSETFROM:+0200
TZOFFSETTO:+0100
TZNAME:CET
DTSTART:20241027T010000
END:STANDARD
BEGIN:DAYLIGHT
TZOFFSETFROM:+0100
TZOFFSETTO:+0200
TZNAME:CEST
DTSTART:20250330T010000
END:DAYLIGHT
BEGIN:STANDARD
TZOFFSETFROM:+0200
TZOFFSETTO:+0100
TZNAME:CET
DTSTART:20251026T010000
END:STANDARD
END:VTIMEZONE
BEGIN:VEVENT
DTSTART;TZID=Europe/Amsterdam:20240312T090000
DTEND;TZID=Europe/Amsterdam:20240312T120000
DTSTAMP:20260423T191333
CREATED:20240329T134145Z
LAST-MODIFIED:20240329T134145Z
UID:8751-1710234000-1710244800@infrabindt.nl
SUMMARY:3 Gastlessen OS Buitenveldert Amsterdam via Tech Island
DESCRIPTION:Gastles in de vorm van de workshop ‘Kennismaken met de infra’ die wordt verzorgd door professionals uit de infra.
URL:https://infrabindt.nl/evenement/3-gastlessen-cs-buitenveldert-amsterdam-via-tech-island-2-2-2-2/
LOCATION:Tech Your Talent\, Kabelweg 88\, Amsterdam
CATEGORIES:gastles
ATTACH;FMTTYPE=image/jpeg:https://infrabindt.nl/wp-content/uploads/2023/11/infra-bindt-logo-fc.jpg
END:VEVENT
BEGIN:VEVENT
DTSTART;TZID=Europe/Amsterdam:20240312T120000
DTEND;TZID=Europe/Amsterdam:20240312T170000
DTSTAMP:20260423T191333
CREATED:20240125T160757Z
LAST-MODIFIED:20240125T160757Z
UID:8549-1710244800-1710262800@infrabindt.nl
SUMMARY:Het Gooi On Stage Beroepenfeest te Naarden
DESCRIPTION:Het Gooi On Stage Beroepenfeest voor VMBO leerlingen in de Grote Kerk te Naarden voor de vmbo leerlingen van:\nYuverta Naarden\, Casparus College Weesp\, Vechtstede College Weesp\, Lucent College Hilversum\, De Fontein Bussum\, Montessori Lyceum Gooise Meren\, Hilfertsheem College Hilversum\, Elan College Huizen
URL:https://infrabindt.nl/evenement/het-gooi-on-stage-beroepenfeest-te-naarden-2/
LOCATION:Grote Kerk Naarden\, Marktstraat 13\, Naarden
CATEGORIES:beroepeninformatie
ATTACH;FMTTYPE=image/jpeg:https://infrabindt.nl/wp-content/uploads/2017/11/Infrabind-43.jpg
END:VEVENT
END:VCALENDAR