BEGIN:VCALENDAR
VERSION:2.0
PRODID:-//Infra Bindt - ECPv6.15.20//NONSGML v1.0//EN
CALSCALE:GREGORIAN
METHOD:PUBLISH
X-ORIGINAL-URL:https://infrabindt.nl
X-WR-CALDESC:Evenementen voor Infra Bindt
REFRESH-INTERVAL;VALUE=DURATION:PT1H
X-Robots-Tag:noindex
X-PUBLISHED-TTL:PT1H
BEGIN:VTIMEZONE
TZID:Europe/Amsterdam
BEGIN:DAYLIGHT
TZOFFSETFROM:+0100
TZOFFSETTO:+0200
TZNAME:CEST
DTSTART:20210328T010000
END:DAYLIGHT
BEGIN:STANDARD
TZOFFSETFROM:+0200
TZOFFSETTO:+0100
TZNAME:CET
DTSTART:20211031T010000
END:STANDARD
BEGIN:DAYLIGHT
TZOFFSETFROM:+0100
TZOFFSETTO:+0200
TZNAME:CEST
DTSTART:20220327T010000
END:DAYLIGHT
BEGIN:STANDARD
TZOFFSETFROM:+0200
TZOFFSETTO:+0100
TZNAME:CET
DTSTART:20221030T010000
END:STANDARD
BEGIN:DAYLIGHT
TZOFFSETFROM:+0100
TZOFFSETTO:+0200
TZNAME:CEST
DTSTART:20230326T010000
END:DAYLIGHT
BEGIN:STANDARD
TZOFFSETFROM:+0200
TZOFFSETTO:+0100
TZNAME:CET
DTSTART:20231029T010000
END:STANDARD
END:VTIMEZONE
BEGIN:VEVENT
DTSTART;TZID=Europe/Amsterdam:20220509T101500
DTEND;TZID=Europe/Amsterdam:20220517T120500
DTSTAMP:20260425T055436
CREATED:20171218T164054Z
LAST-MODIFIED:20220512T065933Z
UID:639-1652091300-1652789100@infrabindt.nl
SUMMARY:3 Gastlessen over de infra in klas 1 bij het Trinitas College Johannes Bosco te Heerhugowaard
DESCRIPTION:Gastles in de vorm van de workshop ‘Kennismaken met de infra’ die wordt verzorgd door professionals uit de infra.
URL:https://infrabindt.nl/evenement/2-gastlessen-over-de-infra-in-klas-2-b-k-bij-het-trinitas-college-johannes-bosco-te-heerhugowaard-2/
LOCATION:Trinitas College Johannes Bosco\, Hectorlaan 6\, Heerhugowaard\, Nederland
CATEGORIES:gastles
ATTACH;FMTTYPE=image/jpeg:https://infrabindt.nl/wp-content/uploads/2016/10/infra-bindt-logo-fc.jpg
END:VEVENT
BEGIN:VEVENT
DTSTART;TZID=Europe/Amsterdam:20220510T092000
DTEND;TZID=Europe/Amsterdam:20220510T112000
DTSTAMP:20260425T055436
CREATED:20220324T201212Z
LAST-MODIFIED:20220325T103036Z
UID:5608-1652174400-1652181600@infrabindt.nl
SUMMARY:2 Gastlessen over de infra in klas 1 VMBO bij het Junior College te Julianadorp
DESCRIPTION:Gastles in de vorm van de workshop ‘Kennismaken met de infra’ die wordt verzorgd door professionals uit de infra.
URL:https://infrabindt.nl/evenement/2-gastlessen-over-de-infra-in-klas-1-vmbo-bij-het-junior-college-te-julianadorp/
LOCATION:Junior College\, Akkerbouwstraat 1\, Julianadorp
CATEGORIES:gastles
ATTACH;FMTTYPE=image/jpeg:https://infrabindt.nl/wp-content/uploads/2016/10/infra-bindt-logo-fc.jpg
END:VEVENT
BEGIN:VEVENT
DTSTART;TZID=Europe/Amsterdam:20220523T093000
DTEND;TZID=Europe/Amsterdam:20220523T110000
DTSTAMP:20260425T055437
CREATED:20200117T202257Z
LAST-MODIFIED:20220419T112313Z
UID:1900-1653298200-1653303600@infrabindt.nl
SUMMARY:1 Gastles over de infra in klas 3 bij de SG Gerrit Rietveld VMBO te Purmerend
DESCRIPTION:Gastles in de vorm van de workshop ‘Kennismaken met de infra’ die wordt verzorgd door professionals uit de infra.
URL:https://infrabindt.nl/evenement/6-gastlessen-infra-klas-2-sg-gerrit-rietveld-vmbo-purmerend/
LOCATION:SG Gerrit Rietveld VMBO\, Spinnekop 1\, Purmerend
CATEGORIES:gastles
ATTACH;FMTTYPE=image/jpeg:https://infrabindt.nl/wp-content/uploads/2016/10/infra-bindt-logo-fc.jpg
END:VEVENT
END:VCALENDAR