BEGIN:VCALENDAR
VERSION:2.0
PRODID:-//Infra Bindt - ECPv6.15.20//NONSGML v1.0//EN
CALSCALE:GREGORIAN
METHOD:PUBLISH
X-WR-CALNAME:Infra Bindt
X-ORIGINAL-URL:https://infrabindt.nl
X-WR-CALDESC:Evenementen voor Infra Bindt
REFRESH-INTERVAL;VALUE=DURATION:PT1H
X-Robots-Tag:noindex
X-PUBLISHED-TTL:PT1H
BEGIN:VTIMEZONE
TZID:Europe/Amsterdam
BEGIN:DAYLIGHT
TZOFFSETFROM:+0100
TZOFFSETTO:+0200
TZNAME:CEST
DTSTART:20210328T010000
END:DAYLIGHT
BEGIN:STANDARD
TZOFFSETFROM:+0200
TZOFFSETTO:+0100
TZNAME:CET
DTSTART:20211031T010000
END:STANDARD
BEGIN:DAYLIGHT
TZOFFSETFROM:+0100
TZOFFSETTO:+0200
TZNAME:CEST
DTSTART:20220327T010000
END:DAYLIGHT
BEGIN:STANDARD
TZOFFSETFROM:+0200
TZOFFSETTO:+0100
TZNAME:CET
DTSTART:20221030T010000
END:STANDARD
BEGIN:DAYLIGHT
TZOFFSETFROM:+0100
TZOFFSETTO:+0200
TZNAME:CEST
DTSTART:20230326T010000
END:DAYLIGHT
BEGIN:STANDARD
TZOFFSETFROM:+0200
TZOFFSETTO:+0100
TZNAME:CET
DTSTART:20231029T010000
END:STANDARD
END:VTIMEZONE
BEGIN:VEVENT
DTSTART;TZID=Europe/Amsterdam:20220915T141500
DTEND;TZID=Europe/Amsterdam:20221013T153000
DTSTAMP:20260424T224015
CREATED:20221027T133147Z
LAST-MODIFIED:20221027T133231Z
UID:7235-1663251300-1665675000@infrabindt.nl
SUMMARY:3 Gastlessen over de infra in klas 3 Mavo bij het Jac. P. Thijsse College te Castricum
DESCRIPTION:Gastles in de vorm van de workshop ‘Kennismaken met de infra’ die wordt verzorgd door professionals uit de infra op 15/9\, 6/10 en 13/10.
URL:https://infrabindt.nl/evenement/3-gastlessen-over-de-infra-in-klas-3-mavo-bij-het-jac-p-thijsse-college-te-castricum-2/
LOCATION:J.P. Thijsse College\, De Bloemen 65\, Castricum\, Nederland
CATEGORIES:gastles
ATTACH;FMTTYPE=image/jpeg:https://infrabindt.nl/wp-content/uploads/2016/10/infra-bindt-logo-fc.jpg
END:VEVENT
BEGIN:VEVENT
DTSTART;TZID=Europe/Amsterdam:20221002T120000
DTEND;TZID=Europe/Amsterdam:20221002T170000
DTSTAMP:20260424T224015
CREATED:20220603T101839Z
LAST-MODIFIED:20221120T150353Z
UID:6539-1664712000-1664730000@infrabindt.nl
SUMMARY:Waterland Werkt!\, bedrijvenmarkt en stagebeurs in Purmerend
DESCRIPTION:Bedrijvenmarkt en stagebeurs voor leerlingen van het Voortgezet Onderwijs in Purmerend. Hier staan wij met een voorlichtingsstand over de infra.
URL:https://infrabindt.nl/evenement/waterland-werkt-bedrijvenmarkt-en-stagebeurs-in-purmerend/
LOCATION:WaterlandWerkt!\, Spinnekop 1\, Purmerend
CATEGORIES:beroepeninformatie
ATTACH;FMTTYPE=image/jpeg:https://infrabindt.nl/wp-content/uploads/2017/11/Infrabind-43.jpg
END:VEVENT
BEGIN:VEVENT
DTSTART;TZID=Europe/Amsterdam:20221003T100000
DTEND;TZID=Europe/Amsterdam:20221005T140000
DTSTAMP:20260424T224015
CREATED:20211018T135210Z
LAST-MODIFIED:20211222T163644Z
UID:4716-1664791200-1664978400@infrabindt.nl
SUMMARY:PET Promotie Event Techniek voor basisscholen in de Gooi en Vechtstreek
DESCRIPTION:Evenement in College De Brink te Laren voor leerlingen basisschool groep 7 en 8 uit de Gooi en Vechtstreek. Daar kunnen zij zich spelenderwijs oriënteren op hun beroepskeuze.
URL:https://infrabindt.nl/evenement/pet-promotie-event-techniek-voor-basisscholen-in-de-gooi-en-vechtstreek/
LOCATION:College De Brink\, Eemnesserweg 19\, Laren
CATEGORIES:Event
ATTACH;FMTTYPE=image/jpeg:https://infrabindt.nl/wp-content/uploads/2020/01/200121_Nieuwsbrief_Infra_Bindt_PET.jpg
END:VEVENT
BEGIN:VEVENT
DTSTART;TZID=Europe/Amsterdam:20221005T090000
DTEND;TZID=Europe/Amsterdam:20221005T120000
DTSTAMP:20260424T224015
CREATED:20221120T151836Z
LAST-MODIFIED:20221120T151836Z
UID:7400-1664960400-1664971200@infrabindt.nl
SUMMARY:Tech Your Talent voor leerlingen van het voortgezet onderwijs in de IJmond
DESCRIPTION:Tech Your Talent voor leerlingen van het voortgezet onderwijs in de IJmond. Hierbij bezoeken de leerlingen een bedrijf. Voor de infra bezoeken zij Aannemingsbedrijf De Bie Infra te Santpoort-Noord.
URL:https://infrabindt.nl/evenement/tech-your-talent-voor-leerlingen-van-het-voortgezet-onderwijs-in-de-ijmond-2/
LOCATION:De Bie Infra\, Biezenweg 15\, Santpoort-Noord
CATEGORIES:Event
ATTACH;FMTTYPE=image/jpeg:https://infrabindt.nl/wp-content/uploads/2017/11/Infrabind-69.jpg
END:VEVENT
BEGIN:VEVENT
DTSTART;TZID=Europe/Amsterdam:20221006T090000
DTEND;TZID=Europe/Amsterdam:20221007T150000
DTSTAMP:20260424T224015
CREATED:20210927T145345Z
LAST-MODIFIED:20221027T142832Z
UID:4620-1665046800-1665154800@infrabindt.nl
SUMMARY:PET Promotie Event Techniek voor basisscholen IJmond
DESCRIPTION:Evenement in Sporthal De Walvis\, Van Loenenlaan 1 te Beverwijk voor leerlingen basisschool groep 8 uit de IJmond. Daar kunnen zij zich spelenderwijs oriënteren op hun beroepskeuze.
URL:https://infrabindt.nl/evenement/pet-promotie-event-techniek-voor-basisscholen-ijmond/
LOCATION:Sporthal De Walvis\, Van Loenenlaan 1\, Beverwijk
CATEGORIES:beroepeninformatie
ATTACH;FMTTYPE=image/jpeg:https://infrabindt.nl/wp-content/uploads/2020/01/200121_Nieuwsbrief_Infra_Bindt_PET.jpg
END:VEVENT
BEGIN:VEVENT
DTSTART;TZID=Europe/Amsterdam:20221010T083000
DTEND;TZID=Europe/Amsterdam:20221011T155000
DTSTAMP:20260424T224015
CREATED:20191107T210909Z
LAST-MODIFIED:20221010T110132Z
UID:1667-1665390600-1665503400@infrabindt.nl
SUMMARY:6 Gastlessen over de infra in klas 2 B/K/Mavo bij het Haarlem College te Haarlem
DESCRIPTION:Gastles in de vorm van de workshop ‘Kennismaken met de infra’ die wordt verzorgd door professionals uit de infra.
URL:https://infrabindt.nl/evenement/4-gastlessen-infra-klas-4-mavo-herbert-vissers-college-nieuw-vennep-2/
LOCATION:Haarlem College\, Broekweg 1\, Haarlem
CATEGORIES:gastles
ATTACH;FMTTYPE=image/jpeg:https://infrabindt.nl/wp-content/uploads/2016/10/infra-bindt-logo-fc.jpg
END:VEVENT
BEGIN:VEVENT
DTSTART;TZID=Europe/Amsterdam:20221011T150000
DTEND;TZID=Europe/Amsterdam:20221011T210000
DTSTAMP:20260424T224015
CREATED:20210901T200641Z
LAST-MODIFIED:20221027T145005Z
UID:4409-1665500400-1665522000@infrabindt.nl
SUMMARY:Beroepenmarkt voor leerlingen van het Petrus Canisius College Oosterhout te Alkmaar
DESCRIPTION:Beroepenmarkt voor leerlingen van het Petrus Canisius College Oosterhout te Alkmaar
URL:https://infrabindt.nl/evenement/beroepenmarkt-voor-leerlingen-van-het-petrus-canisius-college-oosterhout-te-alkmaar/
LOCATION:Petrus Canisius College Oosterhout\, Alkmaar\, Vondelstraat 41\, Alkmaar\, Nederland
CATEGORIES:beroepeninformatie
ATTACH;FMTTYPE=image/jpeg:https://infrabindt.nl/wp-content/uploads/2017/11/Infrabind-43.jpg
END:VEVENT
BEGIN:VEVENT
DTSTART;TZID=Europe/Amsterdam:20221012T190000
DTEND;TZID=Europe/Amsterdam:20221012T211500
DTSTAMP:20260424T224015
CREATED:20210902T123024Z
LAST-MODIFIED:20221027T145407Z
UID:4415-1665601200-1665609300@infrabindt.nl
SUMMARY:Beroepenmarkt voor leerlingen van Vonk (voorheen Clusius College) te Purmerend
DESCRIPTION:Beroepenmarkt voor leerlingen van Vonk te Purmerend
URL:https://infrabindt.nl/evenement/beroepenmarkt-voor-leerlingen-van-het-clusius-college-te-purmerend/
LOCATION:Vonk Purmerend\, Aletta Jacobslaan 1\, Purmerend
CATEGORIES:beroepeninformatie
ATTACH;FMTTYPE=image/jpeg:https://infrabindt.nl/wp-content/uploads/2017/11/Infrabind-43.jpg
END:VEVENT
BEGIN:VEVENT
DTSTART;TZID=Europe/Amsterdam:20221013T100000
DTEND;TZID=Europe/Amsterdam:20221014T140000
DTSTAMP:20260424T224015
CREATED:20210901T195103Z
LAST-MODIFIED:20221027T143345Z
UID:4400-1665655200-1665756000@infrabindt.nl
SUMMARY:PET Promotie Event Techniek voor basisscholen Alkmaar
DESCRIPTION:Evenement in Sporthal De Hoornse Vaart\, Hertog Aalbrechtweg 4 te Alkmaar voor leerlingen basisschool groep 7 en 8 uit Alkmaar e.o. Daar kunnen zij zich spelenderwijs oriënteren op hun beroepskeuze.
URL:https://infrabindt.nl/evenement/pet-promotie-event-techniek-voor-basisscholen-alkmaar/
LOCATION:Sporthal De Hoornse Vaart\, Hertog Aalbrechtweg 4\, Alkmaar\, Nederland
CATEGORIES:Event
ATTACH;FMTTYPE=image/jpeg:https://infrabindt.nl/wp-content/uploads/2020/01/200121_Nieuwsbrief_Infra_Bindt_PET.jpg
END:VEVENT
BEGIN:VEVENT
DTSTART;TZID=Europe/Amsterdam:20221027T100000
DTEND;TZID=Europe/Amsterdam:20221027T140000
DTSTAMP:20260424T224015
CREATED:20210617T130451Z
LAST-MODIFIED:20221027T143706Z
UID:4113-1666864800-1666879200@infrabindt.nl
SUMMARY:PET Promotie Event Techniek voor basisscholen in West-Friesland Oost
DESCRIPTION:Evenement in Sportcentrum De Kloet te Grootebroek voor leerlingen basisschool groep 7 uit West-Friesland Oost. Daar kunnen zij zich spelenderwijs oriënteren op hun beroepskeuze.
URL:https://infrabindt.nl/evenement/pet-promotie-event-techniek-voor-basisscholen-in-west-friesland-oost-2/
LOCATION:Sportcentrum De Kloet\, Raadhuisstraat 8\, Grootebroek
CATEGORIES:Event
ATTACH;FMTTYPE=image/jpeg:https://infrabindt.nl/wp-content/uploads/2020/01/200121_Nieuwsbrief_Infra_Bindt_PET.jpg
END:VEVENT
END:VCALENDAR