BEGIN:VCALENDAR
VERSION:2.0
PRODID:-//Infra Bindt - ECPv6.15.20//NONSGML v1.0//EN
CALSCALE:GREGORIAN
METHOD:PUBLISH
X-WR-CALNAME:Infra Bindt
X-ORIGINAL-URL:https://infrabindt.nl
X-WR-CALDESC:Evenementen voor Infra Bindt
REFRESH-INTERVAL;VALUE=DURATION:PT1H
X-Robots-Tag:noindex
X-PUBLISHED-TTL:PT1H
BEGIN:VTIMEZONE
TZID:Europe/Amsterdam
BEGIN:DAYLIGHT
TZOFFSETFROM:+0100
TZOFFSETTO:+0200
TZNAME:CEST
DTSTART:20220327T010000
END:DAYLIGHT
BEGIN:STANDARD
TZOFFSETFROM:+0200
TZOFFSETTO:+0100
TZNAME:CET
DTSTART:20221030T010000
END:STANDARD
BEGIN:DAYLIGHT
TZOFFSETFROM:+0100
TZOFFSETTO:+0200
TZNAME:CEST
DTSTART:20230326T010000
END:DAYLIGHT
BEGIN:STANDARD
TZOFFSETFROM:+0200
TZOFFSETTO:+0100
TZNAME:CET
DTSTART:20231029T010000
END:STANDARD
BEGIN:DAYLIGHT
TZOFFSETFROM:+0100
TZOFFSETTO:+0200
TZNAME:CEST
DTSTART:20240331T010000
END:DAYLIGHT
BEGIN:STANDARD
TZOFFSETFROM:+0200
TZOFFSETTO:+0100
TZNAME:CET
DTSTART:20241027T010000
END:STANDARD
END:VTIMEZONE
BEGIN:VEVENT
DTSTART;TZID=Europe/Amsterdam:20230201T084500
DTEND;TZID=Europe/Amsterdam:20230201T151500
DTSTAMP:20260424T134639
CREATED:20230415T141310Z
LAST-MODIFIED:20230415T141310Z
UID:7839-1675241100-1675264500@infrabindt.nl
SUMMARY:Tech your Talent voor het voortgezet onderwijs in Haarlem
DESCRIPTION:Evenement bij de 3D Makers Zone\, Oudeweg 91-95 te Haarlem voor leerlingen voortgezet onderwijs uit de Haarlem. Daar kunnen zij zich in workshops oriënteren op hun beroepskeuze.
URL:https://infrabindt.nl/evenement/tech-your-talent-voor-het-voortgezet-onderwijs-in-haarlem/
LOCATION:3D Makers Zone\, Oudeweg 91-95\, Haarlem\, Nederland
CATEGORIES:beroepeninformatie,gastles
ATTACH;FMTTYPE=image/jpeg:https://infrabindt.nl/wp-content/uploads/2017/11/Infrabind-43.jpg
END:VEVENT
BEGIN:VEVENT
DTSTART;TZID=Europe/Amsterdam:20230202T084500
DTEND;TZID=Europe/Amsterdam:20230203T150000
DTSTAMP:20260424T134639
CREATED:20230125T140659Z
LAST-MODIFIED:20230125T140659Z
UID:7627-1675327500-1675436400@infrabindt.nl
SUMMARY:PET Promotie Evenement Techniek voor basisscholen in Haarlem
DESCRIPTION:Evenement bij de 3D Makers Zone te Haarlem voor leerlingen basisschool groep 8 uit  Haarlem. Daar kunnen zij zich spelenderwijs oriënteren op hun beroepskeuze.
URL:https://infrabindt.nl/evenement/pet-promotie-evenement-techniek-voor-basisscholen-in-haarlem/
LOCATION:3D Makers Zone\, Oudeweg 91-95\, Haarlem\, Nederland
CATEGORIES:Event
ATTACH;FMTTYPE=image/jpeg:https://infrabindt.nl/wp-content/uploads/2020/01/200121_Nieuwsbrief_Infra_Bindt_PET.jpg
END:VEVENT
BEGIN:VEVENT
DTSTART;TZID=Europe/Amsterdam:20230203T114000
DTEND;TZID=Europe/Amsterdam:20230203T142000
DTSTAMP:20260424T134639
CREATED:20221125T083631Z
LAST-MODIFIED:20221125T083631Z
UID:7450-1675424400-1675434000@infrabindt.nl
SUMMARY:3 Gastlessen over de infra in klas 2 Mavo/Havo bij het Petrus Canisius College Fabritius te Alkmaar
DESCRIPTION:Gastles in de vorm van de workshop ‘Kennismaken met de infra’ die wordt verzorgd door professionals uit de infra.
URL:https://infrabindt.nl/evenement/3-gastlessen-over-de-infra-in-klas-2-mavo-havo-bij-het-petrus-canisius-college-fabritius-te-alkmaar/
LOCATION:Petrus Canisius College Fabritius\, Fabritiusstraat 1\, Alkmaar
CATEGORIES:gastles
ATTACH;FMTTYPE=image/jpeg:https://infrabindt.nl/wp-content/uploads/2016/10/infra-bindt-logo-fc.jpg
END:VEVENT
BEGIN:VEVENT
DTSTART;TZID=Europe/Amsterdam:20230207T081500
DTEND;TZID=Europe/Amsterdam:20230207T091500
DTSTAMP:20260424T134639
CREATED:20221123T082654Z
LAST-MODIFIED:20221123T082654Z
UID:7443-1675757700-1675761300@infrabindt.nl
SUMMARY:1 Gastles over de infra in klas 3 VMBO bij het Regius College te Schagen
DESCRIPTION:Gastles in de vorm van de workshop ‘Kennismaken met de infra’ die wordt verzorgd door professionals uit de infra.
URL:https://infrabindt.nl/evenement/1-gastles-over-de-infra-in-klas-3-vmbo-bij-het-regius-college-te-schagen-2/
LOCATION:Regius College VMBO\, Hofstraat 11\, Schagen
CATEGORIES:gastles
ATTACH;FMTTYPE=image/jpeg:https://infrabindt.nl/wp-content/uploads/2016/10/infra-bindt-logo-fc.jpg
END:VEVENT
BEGIN:VEVENT
DTSTART;TZID=Europe/Amsterdam:20230207T123500
DTEND;TZID=Europe/Amsterdam:20230214T144500
DTSTAMP:20260424T134639
CREATED:20230125T135521Z
LAST-MODIFIED:20230125T135521Z
UID:7623-1675773300-1676385900@infrabindt.nl
SUMMARY:4 Gastlessen over de infra in klas 2 VMBO bij het Huygens College te Heerhugowaard
DESCRIPTION:Gastles in de vorm van de workshop ‘Kennismaken met de infra’ die wordt verzorgd door professionals uit de infra.
URL:https://infrabindt.nl/evenement/4-gastlessen-over-de-infra-in-klas-2-vmbo-bij-het-huygens-college-te-heerhugowaard/
LOCATION:Huygens College\, Umbriëllaan 3\, Heerhugowaard
CATEGORIES:gastles
ATTACH;FMTTYPE=image/jpeg:https://infrabindt.nl/wp-content/uploads/2016/10/infra-bindt-logo-fc.jpg
END:VEVENT
BEGIN:VEVENT
DTSTART;TZID=Europe/Amsterdam:20230213T080000
DTEND;TZID=Europe/Amsterdam:20230216T160000
DTSTAMP:20260424T134639
CREATED:20220207T082558Z
LAST-MODIFIED:20221027T141854Z
UID:5337-1676275200-1676563200@infrabindt.nl
SUMMARY:Techniekdagen Gooi en Vechtstreek voor VMBO leerlingen in Bussum
DESCRIPTION:Techniekdagen Gooi en Vechtstreek voor VMBO leerlingen in Bussum.
URL:https://infrabindt.nl/evenement/techniekdagen-voor-leerlingen-van-de-gooise-scholenfederatie-in-bussum/
LOCATION:Bouwmensen/MBO Hilversum\, Parallelweg 1\, Bussum
CATEGORIES:Event
ATTACH;FMTTYPE=image/jpeg:https://infrabindt.nl/wp-content/uploads/2017/11/Infrabind-43.jpg
END:VEVENT
BEGIN:VEVENT
DTSTART;TZID=Europe/Amsterdam:20230215T103000
DTEND;TZID=Europe/Amsterdam:20230222T140000
DTSTAMP:20260424T134639
CREATED:20230110T152229Z
LAST-MODIFIED:20230110T152229Z
UID:7580-1676457000-1677074400@infrabindt.nl
SUMMARY:3 Gastlessen over de infra in klas 3 VMBO bij het Tabor College d'Ampte te Hoorn
DESCRIPTION:Gastles in de vorm van de workshop ‘Kennismaken met de infra’ die wordt verzorgd door professionals uit de infra.
URL:https://infrabindt.nl/evenement/3-gastlessen-over-de-infra-in-klas-3-vmbo-bij-het-tabor-college-dampte-te-hoorn-2/
LOCATION:Tabor College ‘d Ampte\, Berkhouterweg 5\, Hoorn\, Nederland
CATEGORIES:gastles
ATTACH;FMTTYPE=image/jpeg:https://infrabindt.nl/wp-content/uploads/2016/10/infra-bindt-logo-fc.jpg
END:VEVENT
BEGIN:VEVENT
DTSTART;TZID=Europe/Amsterdam:20230216T163000
DTEND;TZID=Europe/Amsterdam:20230216T203000
DTSTAMP:20260424T134639
CREATED:20211018T150258Z
LAST-MODIFIED:20221027T154443Z
UID:4748-1676565000-1676579400@infrabindt.nl
SUMMARY:Open dag Infra Bindt\, Stationsplein 129 te Heerhugowaard
DESCRIPTION:Maak zowel je eigen toekomst als de toekomst van Noord-Holland duurzaam met een keuze voor het vakgebied Infra. Tijdens de open dag van Infra Bindt is informatie te krijgen over alle infra-opleidingen in Noord-Holland. Deze kunnen worden gevolgd bij Hogeschool Inholland\, Horizon College\, ROC van Amsterdam\, Regio College\, SPG-NH\, GOA Leidingtechniek\, Civilion en KOB Infra-opleidingen. Je bent van harte welkom op onze open dag!
URL:https://infrabindt.nl/evenement/open-dag-infra-bindt-stationsplein-129-te-heerhugowaard-3/
LOCATION:Infra Bindt\, Stationsplein 129\, Heerhugowaard\, Noord-Holland\, 1703 WE\, Nederland
CATEGORIES:Open dag
ATTACH;FMTTYPE=image/jpeg:https://infrabindt.nl/wp-content/uploads/2016/10/infra-bindt-logo-fc.jpg
END:VEVENT
BEGIN:VEVENT
DTSTART;TZID=Europe/Amsterdam:20230216T163000
DTEND;TZID=Europe/Amsterdam:20230216T203000
DTSTAMP:20260424T134639
CREATED:20211018T151803Z
LAST-MODIFIED:20221027T154540Z
UID:4757-1676565000-1676579400@infrabindt.nl
SUMMARY:Open dag Horizon College Heerhugowaard
DESCRIPTION:Open dag Horizon College Heerhugowaard.
URL:https://infrabindt.nl/evenement/open-dag-horizon-college-heerhugowaard-8/
LOCATION:Horizon College\, Stationsplein 129\, Heerhugowaard\, Noord-Holland\, 1703WE\, Nederland
CATEGORIES:Open dag
ATTACH;FMTTYPE=image/jpeg:https://infrabindt.nl/wp-content/uploads/2016/10/logo_horizon_100.jpg
END:VEVENT
BEGIN:VEVENT
DTSTART;TZID=Europe/Amsterdam:20230221T190000
DTEND;TZID=Europe/Amsterdam:20230221T203000
DTSTAMP:20260424T134639
CREATED:20221120T162934Z
LAST-MODIFIED:20221120T162934Z
UID:7423-1677006000-1677011400@infrabindt.nl
SUMMARY:MBO Voorlichtingsavond bij het Dalí College te Heemskerk
DESCRIPTION:MBO Voorlichtingsavond voor leerlingen van het Dalí College te Heemskerk
URL:https://infrabindt.nl/evenement/mbo-voorlichtingsavond-bij-het-dali-college-te-heemskerk/
LOCATION:Dalí College\, Plesmanweg 450\, Heemskerk\, Nederland
CATEGORIES:beroepeninformatie
ATTACH;FMTTYPE=image/jpeg:https://infrabindt.nl/wp-content/uploads/2017/11/Infrabind-43.jpg
END:VEVENT
BEGIN:VEVENT
DTSTART;TZID=Europe/Amsterdam:20230223T193000
DTEND;TZID=Europe/Amsterdam:20230223T200000
DTSTAMP:20260424T134639
CREATED:20230222T164548Z
LAST-MODIFIED:20230222T164548Z
UID:7709-1677180600-1677182400@infrabindt.nl
SUMMARY:Beroepen- en opleidingendag Hoorn bij het Martinus College te Grootebroek
DESCRIPTION:Beroepen- en opleidingendag Hoorn voor VO scholen uit West-Friesland bij het Martinus College te Grootebroek.
URL:https://infrabindt.nl/evenement/beroepen-en-opleidingendag-hoorn-bij-het-martinus-college-te-grootebroek/
LOCATION:Martinus College\, De Aanloop 6\, Grootebroek\, 1613KV
CATEGORIES:beroepeninformatie
ATTACH;FMTTYPE=image/jpeg:https://infrabindt.nl/wp-content/uploads/2017/11/Infrabind-43.jpg
END:VEVENT
END:VCALENDAR