BEGIN:VCALENDAR
VERSION:2.0
PRODID:-//Infra Bindt - ECPv6.15.20//NONSGML v1.0//EN
CALSCALE:GREGORIAN
METHOD:PUBLISH
X-WR-CALNAME:Infra Bindt
X-ORIGINAL-URL:https://infrabindt.nl
X-WR-CALDESC:Evenementen voor Infra Bindt
REFRESH-INTERVAL;VALUE=DURATION:PT1H
X-Robots-Tag:noindex
X-PUBLISHED-TTL:PT1H
BEGIN:VTIMEZONE
TZID:Europe/Amsterdam
BEGIN:DAYLIGHT
TZOFFSETFROM:+0100
TZOFFSETTO:+0200
TZNAME:CEST
DTSTART:20220327T010000
END:DAYLIGHT
BEGIN:STANDARD
TZOFFSETFROM:+0200
TZOFFSETTO:+0100
TZNAME:CET
DTSTART:20221030T010000
END:STANDARD
BEGIN:DAYLIGHT
TZOFFSETFROM:+0100
TZOFFSETTO:+0200
TZNAME:CEST
DTSTART:20230326T010000
END:DAYLIGHT
BEGIN:STANDARD
TZOFFSETFROM:+0200
TZOFFSETTO:+0100
TZNAME:CET
DTSTART:20231029T010000
END:STANDARD
BEGIN:DAYLIGHT
TZOFFSETFROM:+0100
TZOFFSETTO:+0200
TZNAME:CEST
DTSTART:20240331T010000
END:DAYLIGHT
BEGIN:STANDARD
TZOFFSETFROM:+0200
TZOFFSETTO:+0100
TZNAME:CET
DTSTART:20241027T010000
END:STANDARD
END:VTIMEZONE
BEGIN:VEVENT
DTSTART;TZID=Europe/Amsterdam:20231002T100000
DTEND;TZID=Europe/Amsterdam:20231004T140000
DTSTAMP:20260424T011611
CREATED:20240115T113434Z
LAST-MODIFIED:20240115T113434Z
UID:7272-1696240800-1696428000@infrabindt.nl
SUMMARY:PET Promotie Event Techniek voor basisscholen in de Gooi en Vechtstreek
DESCRIPTION:Evenement in College De Brink te Laren voor leerlingen basisschool groep 7 en 8 uit de Gooi en Vechtstreek. Daar kunnen zij zich spelenderwijs oriënteren op hun beroepskeuze.
URL:https://infrabindt.nl/evenement/pet-promotie-event-techniek-voor-basisscholen-in-de-gooi-en-vechtstreek-2/
LOCATION:College De Brink\, Eemnesserweg 19\, Laren
CATEGORIES:Event
ATTACH;FMTTYPE=image/jpeg:https://infrabindt.nl/wp-content/uploads/2020/01/200121_Nieuwsbrief_Infra_Bindt_PET.jpg
END:VEVENT
BEGIN:VEVENT
DTSTART;TZID=Europe/Amsterdam:20231003T090000
DTEND;TZID=Europe/Amsterdam:20231005T150000
DTSTAMP:20260424T011611
CREATED:20240115T165450Z
LAST-MODIFIED:20240115T165450Z
UID:8440-1696323600-1696518000@infrabindt.nl
SUMMARY:PET Promotie Event Techniek  Amstel en Venen
DESCRIPTION:Het Promotie Evenement Techniek (PET) in de regio Amstel en Venen vindt dit jaar weer plaats in Aalsmeer. De activiteiten voor leerlingen van de basisschool zijn onderdeel van de Techniek Driedaagse. \nEvenement voor leerlingen basisschool groep 8 uit scholen uit Aalsmeer\, Uithoorn\, De Ronde Venen\, Nieuwkoop en enkele scholen uit Amstelveen. Daar kunnen zij zich spelenderwijs oriënteren op hun beroepskeuze.
URL:https://infrabindt.nl/evenement/pet-promotie-evenement-techniek-voor-basisscholen-in-haarlemmermeer-2/
LOCATION:Van Vliet Containers\, Rietwijkeroordweg 33\, Aalsmeer
CATEGORIES:Event
ATTACH;FMTTYPE=image/jpeg:https://infrabindt.nl/wp-content/uploads/2020/01/200121_Nieuwsbrief_Infra_Bindt_PET.jpg
END:VEVENT
BEGIN:VEVENT
DTSTART;TZID=Europe/Amsterdam:20231005T090000
DTEND;TZID=Europe/Amsterdam:20231006T150000
DTSTAMP:20260424T011611
CREATED:20240115T164419Z
LAST-MODIFIED:20240115T164419Z
UID:8437-1696496400-1696604400@infrabindt.nl
SUMMARY:PET Promotie Event Techniek voor basisscholen IJmond
DESCRIPTION:Evenement in Sporthal De Walvis\, Van Loenenlaan 1 te Beverwijk voor leerlingen basisschool groep 8 uit de IJmond. Daar kunnen zij zich spelenderwijs oriënteren op hun beroepskeuze.
URL:https://infrabindt.nl/evenement/pet-promotie-event-techniek-voor-basisscholen-ijmond-2/
LOCATION:Sporthal De Walvis\, Van Loenenlaan 1\, Beverwijk
CATEGORIES:beroepeninformatie
ATTACH;FMTTYPE=image/jpeg:https://infrabindt.nl/wp-content/uploads/2020/01/200121_Nieuwsbrief_Infra_Bindt_PET.jpg
END:VEVENT
BEGIN:VEVENT
DTSTART;TZID=Europe/Amsterdam:20231008T120000
DTEND;TZID=Europe/Amsterdam:20231008T170000
DTSTAMP:20260424T011611
CREATED:20240115T164043Z
LAST-MODIFIED:20240115T164043Z
UID:8435-1696766400-1696784400@infrabindt.nl
SUMMARY:Waterland Werkt!\, bedrijvenmarkt en stagebeurs in Purmerend
DESCRIPTION:Bedrijvenmarkt en stagebeurs voor leerlingen van het Voortgezet Onderwijs in Purmerend. Hier staan wij met een voorlichtingsstand over de infra.
URL:https://infrabindt.nl/evenement/waterland-werkt-bedrijvenmarkt-en-stagebeurs-in-purmerend-2/
LOCATION:WaterlandWerkt!\, Spinnekop 1\, Purmerend
CATEGORIES:beroepeninformatie
ATTACH;FMTTYPE=image/jpeg:https://infrabindt.nl/wp-content/uploads/2017/11/Infrabind-43.jpg
END:VEVENT
BEGIN:VEVENT
DTSTART;TZID=Europe/Amsterdam:20231012T100000
DTEND;TZID=Europe/Amsterdam:20231013T140000
DTSTAMP:20260424T011611
CREATED:20240115T163812Z
LAST-MODIFIED:20240115T163812Z
UID:8432-1697104800-1697205600@infrabindt.nl
SUMMARY:PET Promotie Event Techniek voor basisscholen Alkmaar
DESCRIPTION:Evenement in Sporthal De Hoornse Vaart\, Hertog Aalbrechtweg 4 te Alkmaar voor leerlingen basisschool groep 7 en 8 uit Alkmaar e.o. Daar kunnen zij zich spelenderwijs oriënteren op hun beroepskeuze.
URL:https://infrabindt.nl/evenement/pet-promotie-event-techniek-voor-basisscholen-alkmaar-3/
LOCATION:Sporthal De Hoornse Vaart\, Hertog Aalbrechtweg 4\, Alkmaar\, Nederland
CATEGORIES:Event
ATTACH;FMTTYPE=image/jpeg:https://infrabindt.nl/wp-content/uploads/2020/01/200121_Nieuwsbrief_Infra_Bindt_PET.jpg
END:VEVENT
BEGIN:VEVENT
DTSTART;TZID=Europe/Amsterdam:20231016T102000
DTEND;TZID=Europe/Amsterdam:20231016T151500
DTSTAMP:20260424T011611
CREATED:20240115T163120Z
LAST-MODIFIED:20240115T163120Z
UID:8429-1697451600-1697469300@infrabindt.nl
SUMMARY:3 Gastlessen over de infra in klas 3 Mavo bij het Bonhoeffer College te Castricum
DESCRIPTION:Gastles in de vorm van de workshop ‘Kennismaken met de infra’ die wordt verzorgd door professionals uit de infra.
URL:https://infrabindt.nl/evenement/2-gastlessen-infra-klas-2-en-3-bonhoeffer-college-castricum-2-2/
LOCATION:Bonhoeffer College\, Pieter Kieftstraat 20\, Castricum
CATEGORIES:gastles
ATTACH;FMTTYPE=image/jpeg:https://infrabindt.nl/wp-content/uploads/2016/10/infra-bindt-logo-fc.jpg
END:VEVENT
BEGIN:VEVENT
DTSTART;TZID=Europe/Amsterdam:20231017T160000
DTEND;TZID=Europe/Amsterdam:20231017T203000
DTSTAMP:20260424T011611
CREATED:20240115T162456Z
LAST-MODIFIED:20240115T162538Z
UID:8423-1697558400-1697574600@infrabindt.nl
SUMMARY:Beroepenmarkt voor leerlingen van het Petrus Canisius College Oosterhout te Alkmaar
DESCRIPTION:Beroepenmarkt voor leerlingen van het Petrus Canisius College Oosterhout te Alkmaar
URL:https://infrabindt.nl/evenement/beroepenmarkt-voor-leerlingen-van-het-petrus-canisius-college-oosterhout-te-alkmaar-2/
LOCATION:Petrus Canisius College Oosterhout\, Alkmaar\, Vondelstraat 41\, Alkmaar\, Nederland
CATEGORIES:beroepeninformatie
ATTACH;FMTTYPE=image/jpeg:https://infrabindt.nl/wp-content/uploads/2017/11/Infrabind-43.jpg
END:VEVENT
BEGIN:VEVENT
DTSTART;TZID=Europe/Amsterdam:20231018T190000
DTEND;TZID=Europe/Amsterdam:20231018T211500
DTSTAMP:20260424T011611
CREATED:20240115T162208Z
LAST-MODIFIED:20240115T162208Z
UID:8420-1697655600-1697663700@infrabindt.nl
SUMMARY:Beroepenmarkt voor leerlingen van Vonk Purmerend
DESCRIPTION:Beroepenmarkt voor leerlingen van Vonk te Purmerend
URL:https://infrabindt.nl/evenement/beroepenmarkt-voor-leerlingen-van-het-clusius-college-te-purmerend-2/
LOCATION:Vonk Purmerend\, Aletta Jacobslaan 1\, Purmerend
CATEGORIES:beroepeninformatie
ATTACH;FMTTYPE=image/jpeg:https://infrabindt.nl/wp-content/uploads/2017/11/Infrabind-43.jpg
END:VEVENT
BEGIN:VEVENT
DTSTART;TZID=Europe/Amsterdam:20231019T090000
DTEND;TZID=Europe/Amsterdam:20231019T120000
DTSTAMP:20260424T011611
CREATED:20240115T160154Z
LAST-MODIFIED:20240201T215850Z
UID:8412-1697706000-1697716800@infrabindt.nl
SUMMARY:3 Gastlessen Haarlemmermeer Lyceum via Tech Island\, Amsterdam
DESCRIPTION:3 Gastlessen Haarlemmermeer Lyceum via Tech Island\, Amsterdam \nGastles in de vorm van de workshop ‘Kennismaken met de infra’ die wordt verzorgd door professionals uit de infra.
URL:https://infrabindt.nl/evenement/6-gastlessen-haarlemmermeer-lyceum-via-tech-island-amsterdam-2/
LOCATION:Tech Your Talent\, Kabelweg 88\, Amsterdam
CATEGORIES:gastles
ATTACH;FMTTYPE=image/jpeg:https://infrabindt.nl/wp-content/uploads/2023/11/infra-bindt-logo-fc.jpg
END:VEVENT
BEGIN:VEVENT
DTSTART;TZID=Europe/Amsterdam:20231019T100000
DTEND;TZID=Europe/Amsterdam:20231020T160000
DTSTAMP:20260424T011611
CREATED:20240115T161926Z
LAST-MODIFIED:20240115T161926Z
UID:8417-1697709600-1697817600@infrabindt.nl
SUMMARY:PET Promotie Event Techniek voor basisscholen in West-Friesland Oost
DESCRIPTION:Evenement in Sportcentrum De Weyver te Hoogwoud voor leerlingen basisschool groep 7 uit West-Friesland West. Daar kunnen zij zich spelenderwijs oriënteren op hun beroepskeuze.
URL:https://infrabindt.nl/evenement/pet-promotie-event-techniek-voor-basisscholen-in-west-friesland-oost-3-2/
LOCATION:Sportcentrum De Kloet\, Raadhuisstraat 8\, Grootebroek
CATEGORIES:Event
ATTACH;FMTTYPE=image/jpeg:https://infrabindt.nl/wp-content/uploads/2020/01/200121_Nieuwsbrief_Infra_Bindt_PET.jpg
END:VEVENT
BEGIN:VEVENT
DTSTART;TZID=Europe/Amsterdam:20231019T102000
DTEND;TZID=Europe/Amsterdam:20231019T151500
DTSTAMP:20260424T011611
CREATED:20240115T162944Z
LAST-MODIFIED:20240115T162944Z
UID:8427-1697710800-1697728500@infrabindt.nl
SUMMARY:3 Gastlessen over de infra in klas 3 Mavo bij het Bonhoeffer College te Castricum
DESCRIPTION:Gastles in de vorm van de workshop ‘Kennismaken met de infra’ die wordt verzorgd door professionals uit de infra.
URL:https://infrabindt.nl/evenement/2-gastlessen-infra-klas-2-en-3-bonhoeffer-college-castricum-2/
LOCATION:Bonhoeffer College\, Pieter Kieftstraat 20\, Castricum
CATEGORIES:gastles
ATTACH;FMTTYPE=image/jpeg:https://infrabindt.nl/wp-content/uploads/2016/10/infra-bindt-logo-fc.jpg
END:VEVENT
BEGIN:VEVENT
DTSTART;TZID=Europe/Amsterdam:20231031T083000
DTEND;TZID=Europe/Amsterdam:20231031T120000
DTSTAMP:20260424T011611
CREATED:20240115T155441Z
LAST-MODIFIED:20240115T155441Z
UID:8406-1698741000-1698753600@infrabindt.nl
SUMMARY:
DESCRIPTION:2 Gastlessen klas 3 BWI Compaen VMBO te Zaandam \nGastles in de vorm van de workshop ‘Kennismaken met de infra’ die wordt verzorgd door professionals uit de infra.
URL:https://infrabindt.nl/evenement/8406/
LOCATION:Compaen VMBO\, Nieuwendamstraat 6\, Zaandam
CATEGORIES:gastles
ATTACH;FMTTYPE=image/jpeg:https://infrabindt.nl/wp-content/uploads/2023/11/infra-bindt-logo-fc.jpg
END:VEVENT
END:VCALENDAR