BEGIN:VCALENDAR
VERSION:2.0
PRODID:-//Infra Bindt - ECPv6.15.20//NONSGML v1.0//EN
CALSCALE:GREGORIAN
METHOD:PUBLISH
X-WR-CALNAME:Infra Bindt
X-ORIGINAL-URL:https://infrabindt.nl
X-WR-CALDESC:Evenementen voor Infra Bindt
REFRESH-INTERVAL;VALUE=DURATION:PT1H
X-Robots-Tag:noindex
X-PUBLISHED-TTL:PT1H
BEGIN:VTIMEZONE
TZID:Europe/Amsterdam
BEGIN:DAYLIGHT
TZOFFSETFROM:+0100
TZOFFSETTO:+0200
TZNAME:CEST
DTSTART:20220327T010000
END:DAYLIGHT
BEGIN:STANDARD
TZOFFSETFROM:+0200
TZOFFSETTO:+0100
TZNAME:CET
DTSTART:20221030T010000
END:STANDARD
BEGIN:DAYLIGHT
TZOFFSETFROM:+0100
TZOFFSETTO:+0200
TZNAME:CEST
DTSTART:20230326T010000
END:DAYLIGHT
BEGIN:STANDARD
TZOFFSETFROM:+0200
TZOFFSETTO:+0100
TZNAME:CET
DTSTART:20231029T010000
END:STANDARD
BEGIN:DAYLIGHT
TZOFFSETFROM:+0100
TZOFFSETTO:+0200
TZNAME:CEST
DTSTART:20240331T010000
END:DAYLIGHT
BEGIN:STANDARD
TZOFFSETFROM:+0200
TZOFFSETTO:+0100
TZNAME:CET
DTSTART:20241027T010000
END:STANDARD
END:VTIMEZONE
BEGIN:VEVENT
DTSTART;TZID=Europe/Amsterdam:20231206T163000
DTEND;TZID=Europe/Amsterdam:20231206T203000
DTSTAMP:20260423T221943
CREATED:20240115T111806Z
LAST-MODIFIED:20240115T111806Z
UID:279-1701880200-1701894600@infrabindt.nl
SUMMARY:Open dag Horizon College Heerhugowaard
DESCRIPTION:Open dag Horizon College Heerhugowaard
URL:https://infrabindt.nl/evenement/open-dag-horizon-college-heerhugowaard-2/
LOCATION:Horizon College\, Stationsplein 129\, Heerhugowaard\, Noord-Holland\, 1703WE\, Nederland
CATEGORIES:Open dag
ATTACH;FMTTYPE=image/jpeg:https://infrabindt.nl/wp-content/uploads/2016/10/logo_horizon_100.jpg
END:VEVENT
BEGIN:VEVENT
DTSTART;TZID=Europe/Amsterdam:20231206T163000
DTEND;TZID=Europe/Amsterdam:20231206T203000
DTSTAMP:20260423T221943
CREATED:20240115T133905Z
LAST-MODIFIED:20240115T133927Z
UID:8366-1701880200-1701894600@infrabindt.nl
SUMMARY:Open dag Infra Bindt\, Stationsplein 129 te Heerhugowaard
DESCRIPTION:Maak zowel je eigen toekomst als de toekomst van Noord-Holland duurzaam met een keuze voor het vakgebied Infra. Tijdens de open dag van Infra Bindt is informatie te krijgen over alle infra-opleidingen in Noord-Holland. Deze kunnen worden gevolgd bij Hogeschool Inholland\, Horizon College\, ROC van Amsterdam\, Regio College\, SPG-NH\, GOA Leidingtechniek\, Civilion en KOB Infra-opleidingen. Je bent van harte welkom op onze open dag!
URL:https://infrabindt.nl/evenement/open-dag-infra-bindt-stationsplein-129-te-heerhugowaard-4/
LOCATION:SPG-NH\, Stationsplein 129\, Heerhugowaard
CATEGORIES:Open dag
ATTACH;FMTTYPE=image/jpeg:https://infrabindt.nl/wp-content/uploads/2023/11/infra-bindt-logo-fc.jpg
END:VEVENT
BEGIN:VEVENT
DTSTART;TZID=Europe/Amsterdam:20231207T090000
DTEND;TZID=Europe/Amsterdam:20231207T120000
DTSTAMP:20260423T221943
CREATED:20240115T115214Z
LAST-MODIFIED:20240115T115214Z
UID:8356-1701939600-1701950400@infrabindt.nl
SUMMARY:3 Gastlessen CS Buitenveldert Amsterdam via Tech Island
DESCRIPTION:Gastles in de vorm van de workshop ‘Kennismaken met de infra’ die wordt verzorgd door professionals uit de infra.
URL:https://infrabindt.nl/evenement/3-gastlessen-cs-buitenveldert-amsterdam-via-tech-island/
LOCATION:Tech Your Talent\, Kabelweg 88\, Amsterdam
CATEGORIES:gastles
ATTACH;FMTTYPE=image/jpeg:https://infrabindt.nl/wp-content/uploads/2023/11/infra-bindt-logo-fc.jpg
END:VEVENT
BEGIN:VEVENT
DTSTART;TZID=Europe/Amsterdam:20231212T083000
DTEND;TZID=Europe/Amsterdam:20231212T153000
DTSTAMP:20260423T221943
CREATED:20240115T132338Z
LAST-MODIFIED:20240115T132338Z
UID:8359-1702369800-1702395000@infrabindt.nl
SUMMARY:PET event voor basisscholen Haarlemmermeer
DESCRIPTION:PET event voor basisscholen Haarlemmermeer
URL:https://infrabindt.nl/evenement/pet-event-voor-basisscholen-haarlemmermeer/
LOCATION:Nova College\, Paxlaan 26\, Hoofddorp\, Nederland
CATEGORIES:Event
ATTACH;FMTTYPE=image/jpeg:https://infrabindt.nl/wp-content/uploads/2020/01/200121_Nieuwsbrief_Infra_Bindt_PET.jpg
END:VEVENT
BEGIN:VEVENT
DTSTART;TZID=Europe/Amsterdam:20231220T140000
DTEND;TZID=Europe/Amsterdam:20231220T151500
DTSTAMP:20260423T221943
CREATED:20240115T132858Z
LAST-MODIFIED:20240115T132858Z
UID:8363-1703080800-1703085300@infrabindt.nl
SUMMARY:Beroepenmiddag J.P. Thijsse College te Castricum
DESCRIPTION:Beroepenmiddag Havo3 en Vwo3 J.P. Thijsse College te Castricum
URL:https://infrabindt.nl/evenement/beroepenmiddag-j-p-thijsse-college-te-castricum/
LOCATION:J.P. Thijsse College\, De Bloemen 65\, Castricum\, Nederland
CATEGORIES:beroepeninformatie
ATTACH;FMTTYPE=image/jpeg:https://infrabindt.nl/wp-content/uploads/2019/04/1P1020602k.jpg
END:VEVENT
END:VCALENDAR