BEGIN:VCALENDAR
VERSION:2.0
PRODID:-//Infra Bindt - ECPv6.15.20//NONSGML v1.0//EN
CALSCALE:GREGORIAN
METHOD:PUBLISH
X-WR-CALNAME:Infra Bindt
X-ORIGINAL-URL:https://infrabindt.nl
X-WR-CALDESC:Evenementen voor Infra Bindt
REFRESH-INTERVAL;VALUE=DURATION:PT1H
X-Robots-Tag:noindex
X-PUBLISHED-TTL:PT1H
BEGIN:VTIMEZONE
TZID:Europe/Amsterdam
BEGIN:DAYLIGHT
TZOFFSETFROM:+0100
TZOFFSETTO:+0200
TZNAME:CEST
DTSTART:20230326T010000
END:DAYLIGHT
BEGIN:STANDARD
TZOFFSETFROM:+0200
TZOFFSETTO:+0100
TZNAME:CET
DTSTART:20231029T010000
END:STANDARD
BEGIN:DAYLIGHT
TZOFFSETFROM:+0100
TZOFFSETTO:+0200
TZNAME:CEST
DTSTART:20240331T010000
END:DAYLIGHT
BEGIN:STANDARD
TZOFFSETFROM:+0200
TZOFFSETTO:+0100
TZNAME:CET
DTSTART:20241027T010000
END:STANDARD
BEGIN:DAYLIGHT
TZOFFSETFROM:+0100
TZOFFSETTO:+0200
TZNAME:CEST
DTSTART:20250330T010000
END:DAYLIGHT
BEGIN:STANDARD
TZOFFSETFROM:+0200
TZOFFSETTO:+0100
TZNAME:CET
DTSTART:20251026T010000
END:STANDARD
END:VTIMEZONE
BEGIN:VEVENT
DTSTART;TZID=Europe/Amsterdam:20240109T090000
DTEND;TZID=Europe/Amsterdam:20240109T120000
DTSTAMP:20260423T204019
CREATED:20240124T105259Z
LAST-MODIFIED:20240201T214748Z
UID:8464-1704790800-1704801600@infrabindt.nl
SUMMARY:3 Gastlessen Hervormd Lyceum West via Tech Island\, Amsterdam
DESCRIPTION:3 Gastlessen Hervormd Lyceum west via Tech Island\, Amsterdam \nGastles in de vorm van de workshop ‘Kennismaken met de infra’ die wordt verzorgd door professionals uit de infra.
URL:https://infrabindt.nl/evenement/6-gastlessen-haarlemmermeer-lyceum-via-tech-island-amsterdam-3/
LOCATION:Tech Your Talent\, Kabelweg 88\, Amsterdam
CATEGORIES:gastles
ATTACH;FMTTYPE=image/jpeg:https://infrabindt.nl/wp-content/uploads/2023/11/infra-bindt-logo-fc.jpg
END:VEVENT
BEGIN:VEVENT
DTSTART;TZID=Europe/Amsterdam:20240111T090000
DTEND;TZID=Europe/Amsterdam:20240111T120000
DTSTAMP:20260423T204019
CREATED:20240124T105402Z
LAST-MODIFIED:20240201T214639Z
UID:8467-1704963600-1704974400@infrabindt.nl
SUMMARY:3 Gastlessen Hervormd Lyceum West via Tech Island\, Amsterdam
DESCRIPTION:3 Gastlessen Hervormd Lyceum west via Tech Island\, Amsterdam \nGastles in de vorm van de workshop ‘Kennismaken met de infra’ die wordt verzorgd door professionals uit de infra.
URL:https://infrabindt.nl/evenement/6-gastlessen-haarlemmermeer-lyceum-via-tech-island-amsterdam-3-2/
LOCATION:Tech Your Talent\, Kabelweg 88\, Amsterdam
CATEGORIES:gastles
ATTACH;FMTTYPE=image/jpeg:https://infrabindt.nl/wp-content/uploads/2023/11/infra-bindt-logo-fc.jpg
END:VEVENT
BEGIN:VEVENT
DTSTART;TZID=Europe/Amsterdam:20240112T103000
DTEND;TZID=Europe/Amsterdam:20240112T120000
DTSTAMP:20260423T204019
CREATED:20240124T105747Z
LAST-MODIFIED:20240124T105747Z
UID:8473-1705055400-1705060800@infrabindt.nl
SUMMARY:1 Gastles over de infra in klas 3 VMBO bij het Forta te Heemskerk
DESCRIPTION:Gastles in de vorm van de workshop ‘Kennismaken met de infra’ die wordt verzorgd door professionals uit de infra.
URL:https://infrabindt.nl/evenement/1-gastles-over-de-infra-in-klas-3-vmbo-bij-het-forta-te-heemskerk-2/
LOCATION:Forta\, Jan van Kuikweg 12\, Heemskerk
CATEGORIES:gastles
ATTACH;FMTTYPE=image/jpeg:https://infrabindt.nl/wp-content/uploads/2016/10/infra-bindt-logo-fc.jpg
END:VEVENT
BEGIN:VEVENT
DTSTART;TZID=Europe/Amsterdam:20240116T123500
DTEND;TZID=Europe/Amsterdam:20240116T141500
DTSTAMP:20260423T204019
CREATED:20240124T110027Z
LAST-MODIFIED:20240201T214531Z
UID:8476-1705408500-1705414500@infrabindt.nl
SUMMARY:2 Gastlessen over de infra in klas 2 VMBO bij het Huygens College te Heerhugowaard
DESCRIPTION:Gastles in de vorm van de workshop ‘Kennismaken met de infra’ die wordt verzorgd door professionals uit de infra.
URL:https://infrabindt.nl/evenement/4-gastlessen-over-de-infra-in-klas-2-vmbo-bij-het-huygens-college-te-heerhugowaard-2/
LOCATION:Huygens College\, Umbriëllaan 3\, Heerhugowaard
CATEGORIES:gastles
ATTACH;FMTTYPE=image/jpeg:https://infrabindt.nl/wp-content/uploads/2016/10/infra-bindt-logo-fc.jpg
END:VEVENT
BEGIN:VEVENT
DTSTART;TZID=Europe/Amsterdam:20240117T094500
DTEND;TZID=Europe/Amsterdam:20240117T114500
DTSTAMP:20260423T204019
CREATED:20240124T121217Z
LAST-MODIFIED:20240124T121217Z
UID:8482-1705484700-1705491900@infrabindt.nl
SUMMARY:2 Gastlessen over de infra in klas 3 B/K VMBO bij het Regius College te Schagen
DESCRIPTION:Gastles in de vorm van de workshop ‘Kennismaken met de infra’ die wordt verzorgd door professionals uit de infra.
URL:https://infrabindt.nl/evenement/1-gastles-over-de-infra-in-klas-3-vmbo-bij-het-regius-college-te-schagen-2-2/
LOCATION:Regius College VMBO\, Hofstraat 11\, Schagen
CATEGORIES:gastles
ATTACH;FMTTYPE=image/jpeg:https://infrabindt.nl/wp-content/uploads/2016/10/infra-bindt-logo-fc.jpg
END:VEVENT
BEGIN:VEVENT
DTSTART;TZID=Europe/Amsterdam:20240118T090000
DTEND;TZID=Europe/Amsterdam:20240118T120000
DTSTAMP:20260423T204019
CREATED:20240124T105527Z
LAST-MODIFIED:20240201T213921Z
UID:8470-1705568400-1705579200@infrabindt.nl
SUMMARY:3 Gastlessen Hervormd Lyceum West via Tech Island\, Amsterdam
DESCRIPTION:3 Gastlessen Hervormd Lyceum west via Tech Island\, Amsterdam \nGastles in de vorm van de workshop ‘Kennismaken met de infra’ die wordt verzorgd door professionals uit de infra.
URL:https://infrabindt.nl/evenement/6-gastlessen-haarlemmermeer-lyceum-via-tech-island-amsterdam-3-3/
LOCATION:Tech Your Talent\, Kabelweg 88\, Amsterdam
CATEGORIES:gastles
ATTACH;FMTTYPE=image/jpeg:https://infrabindt.nl/wp-content/uploads/2023/11/infra-bindt-logo-fc.jpg
END:VEVENT
BEGIN:VEVENT
DTSTART;TZID=Europe/Amsterdam:20240123T123500
DTEND;TZID=Europe/Amsterdam:20240123T141500
DTSTAMP:20260423T204019
CREATED:20240124T110135Z
LAST-MODIFIED:20240201T213812Z
UID:8479-1706013300-1706019300@infrabindt.nl
SUMMARY:2 Gastlessen over de infra in klas 2 VMBO bij het Huygens College te Heerhugowaard
DESCRIPTION:Gastles in de vorm van de workshop ‘Kennismaken met de infra’ die wordt verzorgd door professionals uit de infra.
URL:https://infrabindt.nl/evenement/4-gastlessen-over-de-infra-in-klas-2-vmbo-bij-het-huygens-college-te-heerhugowaard-2-2/
LOCATION:Huygens College\, Umbriëllaan 3\, Heerhugowaard
CATEGORIES:gastles
ATTACH;FMTTYPE=image/jpeg:https://infrabindt.nl/wp-content/uploads/2016/10/infra-bindt-logo-fc.jpg
END:VEVENT
BEGIN:VEVENT
DTSTART;TZID=Europe/Amsterdam:20240125T000000
DTEND;TZID=Europe/Amsterdam:20240125T000000
DTSTAMP:20260423T204019
CREATED:20240124T121737Z
LAST-MODIFIED:20240124T121737Z
UID:8486-1706140800-1706140800@infrabindt.nl
SUMMARY:1 Gastles over de infra in klas 3 Mavo bij het Zuiderzee College te Zaandam
DESCRIPTION:Gastles in de vorm van de workshop ‘Kennismaken met de infra’ die wordt verzorgd door professionals uit de infra.
URL:https://infrabindt.nl/evenement/1-gastles-over-de-infra-in-klas-3-en-4-mavo-bij-het-zuiderzee-college-te-zaandam-2/
LOCATION:Zuiderzee College\, Zuiderzee 200\, Zaandam\, Nederland
CATEGORIES:gastles
ATTACH;FMTTYPE=image/jpeg:https://infrabindt.nl/wp-content/uploads/2016/10/infra-bindt-logo-fc.jpg
END:VEVENT
BEGIN:VEVENT
DTSTART;TZID=Europe/Amsterdam:20240129T080000
DTEND;TZID=Europe/Amsterdam:20240201T160000
DTSTAMP:20260423T204019
CREATED:20240124T195724Z
LAST-MODIFIED:20240124T195724Z
UID:8490-1706515200-1706803200@infrabindt.nl
SUMMARY:Techniekdagen Gooi en Vechtstreek 2024
DESCRIPTION:Techniekdagen Gooi en Vechtstreek voor VMBO leerlingen in Bussum.
URL:https://infrabindt.nl/evenement/techniekdagen-voor-leerlingen-van-de-gooise-scholenfederatie-in-bussum-2/
LOCATION:Bouwmensen/MBO Hilversum\, Parallelweg 1\, Bussum
CATEGORIES:Event
ATTACH;FMTTYPE=image/jpeg:https://infrabindt.nl/wp-content/uploads/2017/11/Infrabind-43.jpg
END:VEVENT
BEGIN:VEVENT
DTSTART;TZID=Europe/Amsterdam:20240130T183000
DTEND;TZID=Europe/Amsterdam:20240130T210000
DTSTAMP:20260423T204019
CREATED:20240124T200906Z
LAST-MODIFIED:20240124T200906Z
UID:8494-1706639400-1706648400@infrabindt.nl
SUMMARY:Technische Informatiebeurs bij het Van der Meij College te Alkmaar
DESCRIPTION:Technische Informatiebeurs bij het Van der Meij College te Alkmaar. Deze beurs is toegankelijk voor leerlingen en ouders van het Van der Meij College\, CSG Jan Arentz\, Stedelijk Dalton College\, Willem Blaeu\, Petrus Canisius College Oosterhout\, Huygens College en Johannes Bosco.
URL:https://infrabindt.nl/evenement/technische-informatiebeurs-bij-het-van-der-meij-college-te-alkmaar-2/
LOCATION:Van der Meij College\, Gravin Jacobastraat 1\, Alkmaar
CATEGORIES:beroepeninformatie
ATTACH;FMTTYPE=image/jpeg:https://infrabindt.nl/wp-content/uploads/2017/11/Infrabind-43.jpg
END:VEVENT
BEGIN:VEVENT
DTSTART;TZID=Europe/Amsterdam:20240131T190000
DTEND;TZID=Europe/Amsterdam:20240131T210000
DTSTAMP:20260423T204019
CREATED:20240124T201838Z
LAST-MODIFIED:20240124T201950Z
UID:8496-1706727600-1706734800@infrabindt.nl
SUMMARY:Beroepenvoorlichting voor leerlingen van Vonk te Castricum
DESCRIPTION:Beroepenmarkt voor leerlingen van het Vonk te Castricum
URL:https://infrabindt.nl/evenement/beroepenmarkt-voor-leerlingen-van-het-clusius-college-te-castricum-2/
LOCATION:Vonk  Castricum\, Oranjelaan 2a\, Castricum\, 1901 TX
CATEGORIES:beroepeninformatie
ATTACH;FMTTYPE=image/jpeg:https://infrabindt.nl/wp-content/uploads/2017/11/Infrabind-43.jpg
END:VEVENT
END:VCALENDAR