BEGIN:VCALENDAR
VERSION:2.0
PRODID:-//Infra Bindt - ECPv6.15.20//NONSGML v1.0//EN
CALSCALE:GREGORIAN
METHOD:PUBLISH
X-ORIGINAL-URL:https://infrabindt.nl
X-WR-CALDESC:Evenementen voor Infra Bindt
REFRESH-INTERVAL;VALUE=DURATION:PT1H
X-Robots-Tag:noindex
X-PUBLISHED-TTL:PT1H
BEGIN:VTIMEZONE
TZID:Europe/Amsterdam
BEGIN:DAYLIGHT
TZOFFSETFROM:+0100
TZOFFSETTO:+0200
TZNAME:CEST
DTSTART:20230326T010000
END:DAYLIGHT
BEGIN:STANDARD
TZOFFSETFROM:+0200
TZOFFSETTO:+0100
TZNAME:CET
DTSTART:20231029T010000
END:STANDARD
BEGIN:DAYLIGHT
TZOFFSETFROM:+0100
TZOFFSETTO:+0200
TZNAME:CEST
DTSTART:20240331T010000
END:DAYLIGHT
BEGIN:STANDARD
TZOFFSETFROM:+0200
TZOFFSETTO:+0100
TZNAME:CET
DTSTART:20241027T010000
END:STANDARD
BEGIN:DAYLIGHT
TZOFFSETFROM:+0100
TZOFFSETTO:+0200
TZNAME:CEST
DTSTART:20250330T010000
END:DAYLIGHT
BEGIN:STANDARD
TZOFFSETFROM:+0200
TZOFFSETTO:+0100
TZNAME:CET
DTSTART:20251026T010000
END:STANDARD
END:VTIMEZONE
BEGIN:VEVENT
DTSTART;TZID=Europe/Amsterdam:20240129T080000
DTEND;TZID=Europe/Amsterdam:20240201T160000
DTSTAMP:20260423T191414
CREATED:20240124T195724Z
LAST-MODIFIED:20240124T195724Z
UID:8490-1706515200-1706803200@infrabindt.nl
SUMMARY:Techniekdagen Gooi en Vechtstreek 2024
DESCRIPTION:Techniekdagen Gooi en Vechtstreek voor VMBO leerlingen in Bussum.
URL:https://infrabindt.nl/evenement/techniekdagen-voor-leerlingen-van-de-gooise-scholenfederatie-in-bussum-2/
LOCATION:Bouwmensen/MBO Hilversum\, Parallelweg 1\, Bussum
CATEGORIES:Event
ATTACH;FMTTYPE=image/jpeg:https://infrabindt.nl/wp-content/uploads/2017/11/Infrabind-43.jpg
END:VEVENT
BEGIN:VEVENT
DTSTART;TZID=Europe/Amsterdam:20240202T090000
DTEND;TZID=Europe/Amsterdam:20240202T120000
DTSTAMP:20260423T191414
CREATED:20240124T202630Z
LAST-MODIFIED:20240124T202630Z
UID:8508-1706864400-1706875200@infrabindt.nl
SUMMARY:3 Gastlessen Spinoza Lyceum via Tech Island\, Amsterdam
DESCRIPTION:3 Gastlessen Spinoza Lyceum via Tech Island\, Amsterdam \nGastles in de vorm van de workshop ‘Kennismaken met de infra’ die wordt verzorgd door professionals uit de infra.
URL:https://infrabindt.nl/evenement/6-gastlessen-haarlemmermeer-lyceum-via-tech-island-amsterdam-3-3-2/
LOCATION:Tech Your Talent\, Kabelweg 88\, Amsterdam
CATEGORIES:gastles
ATTACH;FMTTYPE=image/jpeg:https://infrabindt.nl/wp-content/uploads/2023/11/infra-bindt-logo-fc.jpg
END:VEVENT
BEGIN:VEVENT
DTSTART;TZID=Europe/Amsterdam:20240206T090000
DTEND;TZID=Europe/Amsterdam:20240206T120000
DTSTAMP:20260423T191414
CREATED:20240124T202734Z
LAST-MODIFIED:20240124T202734Z
UID:8510-1707210000-1707220800@infrabindt.nl
SUMMARY:3 Gastlessen Spinoza Lyceum via Tech Island\, Amsterdam
DESCRIPTION:3 Gastlessen Spinoza Lyceum via Tech Island\, Amsterdam \nGastles in de vorm van de workshop ‘Kennismaken met de infra’ die wordt verzorgd door professionals uit de infra.
URL:https://infrabindt.nl/evenement/6-gastlessen-haarlemmermeer-lyceum-via-tech-island-amsterdam-3-3-2-2/
LOCATION:Tech Your Talent\, Kabelweg 88\, Amsterdam
CATEGORIES:gastles
ATTACH;FMTTYPE=image/jpeg:https://infrabindt.nl/wp-content/uploads/2023/11/infra-bindt-logo-fc.jpg
END:VEVENT
BEGIN:VEVENT
DTSTART;TZID=Europe/Amsterdam:20240206T141500
DTEND;TZID=Europe/Amsterdam:20240206T151500
DTSTAMP:20260423T191414
CREATED:20240124T203017Z
LAST-MODIFIED:20240329T125720Z
UID:8513-1707228900-1707232500@infrabindt.nl
SUMMARY:Beroepenmiddag Mavo 3 J.P. Thijsse College te Castricum
DESCRIPTION:﻿Beroepenmiddag Mavo3 J.P. Thijsse College te Castricum
URL:https://infrabindt.nl/evenement/beroepenmiddag-j-p-thijsse-college-te-castricum-2/
LOCATION:J.P. Thijsse College\, De Bloemen 65\, Castricum\, Nederland
CATEGORIES:beroepeninformatie
ATTACH;FMTTYPE=image/jpeg:https://infrabindt.nl/wp-content/uploads/2020/01/200121_Nieuwsbrief_Infra_Bindt_PET.jpg
END:VEVENT
BEGIN:VEVENT
DTSTART;TZID=Europe/Amsterdam:20240207T090000
DTEND;TZID=Europe/Amsterdam:20240208T160000
DTSTAMP:20260423T191414
CREATED:20240124T210155Z
LAST-MODIFIED:20240329T130209Z
UID:8516-1707296400-1707408000@infrabindt.nl
SUMMARY:Beroepen event Op Kop Den Helder
DESCRIPTION:﻿Beroepen event Op Kop Den Helder \nLoopbaan oriëntatie programma voor het Voortgezet Onderwijs Het Beroepenevent is een tweedaags event waarbij alle 3e-jaars leerlingen van het Voortgezet Onderwijs kennis maken met verschillende beroepen. Het Beroepenevent wordt de in samenwerking met het Clusius College\, Regius College\, RSG Wiringherlant\, Scholen aan Zee\, OSG de Hogeberg en De Pijler georganiseerd.
URL:https://infrabindt.nl/evenement/beroepen-event-op-kop-den-helder/
LOCATION:Dukdalf Den Helder
ATTACH;FMTTYPE=image/jpeg:https://infrabindt.nl/wp-content/uploads/2020/01/200121_Nieuwsbrief_Infra_Bindt_PET.jpg
END:VEVENT
BEGIN:VEVENT
DTSTART;TZID=Europe/Amsterdam:20240212T090000
DTEND;TZID=Europe/Amsterdam:20240212T120000
DTSTAMP:20260423T191414
CREATED:20240329T130846Z
LAST-MODIFIED:20240329T130846Z
UID:8735-1707728400-1707739200@infrabindt.nl
SUMMARY:3 Gastlessen klas 2 VMBO Montesorri Lyceum Oostpoort via Tech Island te Amsterdam
DESCRIPTION:Gastles in de vorm van de workshop ‘Kennismaken met de infra’ die wordt verzorgd door professionals uit de infra.
URL:https://infrabindt.nl/evenement/12-gastlessen-over-de-infra-in-klas-2-vmbo-bij-het-montessori-lyceum-oostpoort-via-tech-island-te-amsterdam-2-2-2-2-2/
LOCATION:Tech Your Talent\, Kabelweg 88\, Amsterdam
CATEGORIES:gastles
ATTACH;FMTTYPE=image/jpeg:https://infrabindt.nl/wp-content/uploads/2016/10/infra-bindt-logo-fc.jpg
END:VEVENT
BEGIN:VEVENT
DTSTART;TZID=Europe/Amsterdam:20240213T092000
DTEND;TZID=Europe/Amsterdam:20240214T110000
DTSTAMP:20260423T191414
CREATED:20240125T154008Z
LAST-MODIFIED:20240125T154008Z
UID:8521-1707816000-1707908400@infrabindt.nl
SUMMARY:8 Gastlessen over de infra in klas 2 VMBO bij het Haarlem College te Haarlem
DESCRIPTION:Gastles in de vorm van de workshop ‘Kennismaken met de infra’ die wordt verzorgd door professionals uit de infra.
URL:https://infrabindt.nl/evenement/2-gastlessen-over-de-infra-in-klas-2-vmbo-bij-het-haarlem-college-te-haarlem-2/
LOCATION:Haarlem College\, Broekweg 1\, Haarlem
CATEGORIES:gastles
ATTACH;FMTTYPE=image/jpeg:https://infrabindt.nl/wp-content/uploads/2016/10/infra-bindt-logo-fc.jpg
END:VEVENT
BEGIN:VEVENT
DTSTART;TZID=Europe/Amsterdam:20240215T163000
DTEND;TZID=Europe/Amsterdam:20240215T203000
DTSTAMP:20260423T191414
CREATED:20240112T145706Z
LAST-MODIFIED:20240115T111129Z
UID:8302-1708014600-1708029000@infrabindt.nl
SUMMARY:Open dag Infra Bindt\, Stationsplein 129 te Heerhugowaard
DESCRIPTION:Maak zowel je eigen toekomst als de toekomst van Noord-Holland duurzaam met een keuze voor het vakgebied Infra. Tijdens de open dag van Infra Bindt is informatie te krijgen over alle infra-opleidingen in Noord-Holland. Deze kunnen worden gevolgd bij Hogeschool Inholland\, Horizon College\, ROC van Amsterdam\, Regio College\, SPG-NH\, GOA Leidingtechniek\, Civilion en KOB Infra-opleidingen. Je bent van harte welkom op onze open dag!
URL:https://infrabindt.nl/evenement/open-dag-infra-bindt-stationsplein-129-te-heerhugowaard/
LOCATION:SPG-NH\, Stationsplein 129\, Heerhugowaard
ATTACH;FMTTYPE=image/jpeg:https://infrabindt.nl/wp-content/uploads/2023/11/infra-bindt-logo-fc.jpg
END:VEVENT
BEGIN:VEVENT
DTSTART;TZID=Europe/Amsterdam:20240215T163000
DTEND;TZID=Europe/Amsterdam:20240215T203000
DTSTAMP:20260423T191414
CREATED:20240125T154325Z
LAST-MODIFIED:20240201T213501Z
UID:8524-1708014600-1708029000@infrabindt.nl
SUMMARY:Open dag Horizon College te Heerhugowaard
DESCRIPTION:Maak zowel je eigen toekomst als de toekomst van Noord-Holland duurzaam met een keuze voor het vakgebied Infra. Tijdens de open dag van Infra Bindt is informatie te krijgen over alle infra-opleidingen in Noord-Holland. Deze kunnen worden gevolgd bij Hogeschool Inholland\, Horizon College\, ROC van Amsterdam\, Regio College\, SPG-NH\, GOA Leidingtechniek\, Civilion en KOB Infra-opleidingen. Je bent van harte welkom op onze open dag!
URL:https://infrabindt.nl/evenement/open-dag-infra-bindt-stationsplein-129-te-heerhugowaard-5/
LOCATION:SPG-NH\, Stationsplein 129\, Heerhugowaard
ATTACH;FMTTYPE=image/jpeg:https://infrabindt.nl/wp-content/uploads/2016/10/logo_horizon_100.jpg
END:VEVENT
BEGIN:VEVENT
DTSTART;TZID=Europe/Amsterdam:20240227T090000
DTEND;TZID=Europe/Amsterdam:20240227T120000
DTSTAMP:20260423T191414
CREATED:20240329T131157Z
LAST-MODIFIED:20240329T131157Z
UID:8738-1709024400-1709035200@infrabindt.nl
SUMMARY:3 Gastlessen over de infra Mundus College via Tech Island te Amsterdam
DESCRIPTION:Gastles in de vorm van de workshop ‘Kennismaken met de infra’ die wordt verzorgd door professionals uit de infra.
URL:https://infrabindt.nl/evenement/12-gastlessen-over-de-infra-in-klas-2-vmbo-bij-het-montessori-lyceum-oostpoort-via-tech-island-te-amsterdam-2-2-2-2-3/
LOCATION:Tech Your Talent\, Kabelweg 88\, Amsterdam
CATEGORIES:gastles
ATTACH;FMTTYPE=image/jpeg:https://infrabindt.nl/wp-content/uploads/2016/10/infra-bindt-logo-fc.jpg
END:VEVENT
BEGIN:VEVENT
DTSTART;TZID=Europe/Amsterdam:20240229T090000
DTEND;TZID=Europe/Amsterdam:20240229T120000
DTSTAMP:20260423T191414
CREATED:20240125T154850Z
LAST-MODIFIED:20240201T213305Z
UID:8530-1709197200-1709208000@infrabindt.nl
SUMMARY:3 Gastlessen OS Buitenveldert Amsterdam via Tech Island
DESCRIPTION:Gastles in de vorm van de workshop ‘Kennismaken met de infra’ die wordt verzorgd door professionals uit de infra.
URL:https://infrabindt.nl/evenement/3-gastlessen-cs-buitenveldert-amsterdam-via-tech-island-2/
LOCATION:Tech Your Talent\, Kabelweg 88\, Amsterdam
CATEGORIES:gastles
ATTACH;FMTTYPE=image/jpeg:https://infrabindt.nl/wp-content/uploads/2023/11/infra-bindt-logo-fc.jpg
END:VEVENT
BEGIN:VEVENT
DTSTART;TZID=Europe/Amsterdam:20240229T141000
DTEND;TZID=Europe/Amsterdam:20240229T153000
DTSTAMP:20260423T191414
CREATED:20240125T154607Z
LAST-MODIFIED:20240201T213204Z
UID:8526-1709215800-1709220600@infrabindt.nl
SUMMARY:1 Gastles over de infra in klas 3M bij het Vellesan College te IJmuiden
DESCRIPTION:Gastles in de vorm van de workshop ‘Kennismaken met de infra’ die wordt verzorgd door professionals uit de infra.
URL:https://infrabindt.nl/evenement/5-gastlessen-over-de-infra-in-klas-2-bij-het-vellesan-college-te-ijmuiden-2/
LOCATION:Vellesan College\, Briniostraat 16\, IJmuiden\, Nederland
CATEGORIES:gastles
ATTACH;FMTTYPE=image/jpeg:https://infrabindt.nl/wp-content/uploads/2016/10/infra-bindt-logo-fc.jpg
END:VEVENT
BEGIN:VEVENT
DTSTART;TZID=Europe/Amsterdam:20240229T193000
DTEND;TZID=Europe/Amsterdam:20240229T200000
DTSTAMP:20260423T191414
CREATED:20240125T155610Z
LAST-MODIFIED:20240125T155610Z
UID:8540-1709235000-1709236800@infrabindt.nl
SUMMARY:Beroepen- en opleidingendag Hoorn bij het Martinus College te Grootebroek
DESCRIPTION:Beroepen- en opleidingendag Hoorn voor VO scholen uit West-Friesland bij het Martinus College te Grootebroek.
URL:https://infrabindt.nl/evenement/beroepen-en-opleidingendag-hoorn-bij-het-martinus-college-te-grootebroek-2/
LOCATION:Martinus College\, De Aanloop 6\, Grootebroek\, 1613KV
CATEGORIES:beroepeninformatie
ATTACH;FMTTYPE=image/jpeg:https://infrabindt.nl/wp-content/uploads/2017/11/Infrabind-43.jpg
END:VEVENT
END:VCALENDAR